BEGIN:VCALENDAR
VERSION:2.0
PRODID:-//ChamberMaster//Event Calendar 2.0//EN
METHOD:PUBLISH
X-PUBLISHED-TTL:P3D
REFRESH-INTERVAL:P3D
CALSCALE:GREGORIAN
BEGIN:VEVENT
DTSTART:20220410T170000Z
DTEND:20220410T190000Z
X-MICROSOFT-CDO-ALLDAYEVENT:FALSE
SUMMARY:Wine Tasting: Sustainable Wines
DESCRIPTION:Celebrate Earth Day with a trio of wines from sustainable wineries\, with light accompaniments. Fronterra Resources beverage director Emily Edwards will explore the various characteristics of sustainability in winemaking from grape to cork\, tasting and comparing organic\, natural\, and biodynamic wines. Bottle sales will also be available. Guests must be 21 years old to participate.
X-ALT-DESC;FMTTYPE=text/html:<div>\n<p>Celebrate Earth Day with a trio of wines from sustainable wineries\, with light accompaniments. Fronterra Resources beverage director Emily Edwards will explore the various characteristics of sustainability in winemaking from grape to cork\, tasting and comparing organic\, natural\, and biodynamic wines. Bottle sales will also be available.&nbsp\;<em>Guests must be 21 years old to participate.</em></p>\n</div>\n
LOCATION:Little Crossings Pantry 146 Casselman Rd. Grantsville\, MD 21536
UID:e.847.37002
SEQUENCE:3
DTSTAMP:20260420T154712Z
URL:https://members.visitdeepcreek.com/events/details/wine-tasting-sustainable-wines-37002
END:VEVENT

END:VCALENDAR
