BEGIN:VCALENDAR
VERSION:2.0
PRODID:-//ChamberMaster//Event Calendar 2.0//EN
METHOD:PUBLISH
X-PUBLISHED-TTL:P3D
REFRESH-INTERVAL:P3D
CALSCALE:GREGORIAN
BEGIN:VEVENT
DTSTART:20220313T170000Z
DTEND:20220313T180000Z
X-MICROSOFT-CDO-ALLDAYEVENT:FALSE
SUMMARY:Wine Tasting at Little Crossings Pantry
DESCRIPTION:Enjoy a trio of wines from women winemakers paired Girl Scout cookies! A troop will also be selling Girl Scout cookies from 9AM to 2PM.
X-ALT-DESC;FMTTYPE=text/html:<p>Enjoy a trio of wines from women winemakers paired Girl Scout cookies! A troop will also be selling Girl Scout cookies from 9AM to 2PM.&nbsp\;</p>\n
LOCATION:Little Crossings Pantry 146 Casselman Rd. Grantsville\, MD 21536
UID:e.847.36791
SEQUENCE:3
DTSTAMP:20260420T171447Z
URL:https://members.visitdeepcreek.com/events/details/wine-tasting-at-little-crossings-pantry-36791
END:VEVENT

END:VCALENDAR
