BEGIN:VCALENDAR
VERSION:2.0
PRODID:-//ChamberMaster//Event Calendar 2.0//EN
METHOD:PUBLISH
X-PUBLISHED-TTL:P3D
REFRESH-INTERVAL:P3D
CALSCALE:GREGORIAN
BEGIN:VEVENT
DTSTART:20220519T200000Z
DTEND:20220520T013000Z
X-MICROSOFT-CDO-ALLDAYEVENT:FALSE
SUMMARY:Wine Pairing Dinner
DESCRIPTION:Dutch's At Silver Tree will be offering a special May Wine Pairing Dinner on Thursday\, May 19th\, 4:00-9:30. Menu: First Course: Coconut Fried Chicken Bites Or Mini Crab Cakes Paired with Whitehaven Sauvignon Blanc Second course: Caprese Salad or Caesar Salad Paired with Fleur De Mer Rose Third course: Shrimp Scampi over Pasta Paired with Barone Fini Pinot Grigio Or Filet Mignon with Grilled Asparagus Paired with Ravenswood Besieged Blend Or Chicken Rockefeller Paired with Chateau St Jean Pinot Noir Fourth course: Triple Chocolate Cheesecake Or Lemon Blueberry Cake Paired with Lamarca Prosecco Rose
X-ALT-DESC;FMTTYPE=text/html:Dutch&#39\;s At Silver Tree will be offering a special May Wine Pairing Dinner on Thursday\, May 19th\, 4:00-9:30. Menu: First Course: Coconut Fried Chicken Bites Or Mini Crab Cakes Paired with Whitehaven Sauvignon Blanc Second course: Caprese Salad or Caesar Salad Paired with Fleur De Mer Rose Third course: Shrimp Scampi over Pasta Paired with Barone Fini Pinot Grigio Or Filet Mignon with Grilled Asparagus Paired with Ravenswood Besieged Blend Or Chicken Rockefeller Paired with Chateau St Jean Pinot Noir Fourth course: Triple Chocolate Cheesecake Or Lemon Blueberry Cake Paired with Lamarca Prosecco Rose
LOCATION:Dutch's at Silvertree 567 Glendale Rd Oakland\, MD 21550
UID:e.847.37146
SEQUENCE:3
DTSTAMP:20260420T141213Z
URL:https://members.visitdeepcreek.com/events/details/wine-pairing-dinner-05-19-2022-37146
END:VEVENT

END:VCALENDAR
