BEGIN:VCALENDAR
VERSION:2.0
PRODID:-//ChamberMaster//Event Calendar 2.0//EN
METHOD:PUBLISH
X-PUBLISHED-TTL:P3D
REFRESH-INTERVAL:P3D
CALSCALE:GREGORIAN
BEGIN:VEVENT
DTSTART:20220326T180000Z
DTEND:20220326T200000Z
X-MICROSOFT-CDO-ALLDAYEVENT:FALSE
SUMMARY:Wine in the Woods at Savage River Lodge
DESCRIPTION:Wine in the Woods is a fun day of hiking and tasting exquisite wines! It's a wine filled adventure on our trails\, tasting six wines with light hors d'oeuvres along the way. This popular event is offered on select weekends of the year\, rain or shine. If you like a bottle from your hike\, you can buy them at our guest services office after the event! Leashed pets are welcome and guests must be at least 21 years old to participate.
X-ALT-DESC;FMTTYPE=text/html:<span style="font-size:16px"><span style="font-family:arial\,helvetica\,sans-serif"><span style="color:rgb(5\, 5\, 5)">Wine in the Woods is a fun day of hiking and tasting exquisite wines! It&#39\;s a wine filled adventure</span><span style="color:rgb(0\, 0\, 0)">&nbsp\;on our trails\, tasting six wines with light hors d&#39\;oeuvres along the way. This popular event is offered on select weekends of the year\, rain or shine. If you like a bottle from your hike\, you can buy them at our guest services office after the event! Leashed pets are welcome and guests must be at least 21 years old to participate.</span></span></span>
LOCATION:Savage River Lodge
UID:e.847.36796
SEQUENCE:3
DTSTAMP:20260420T172631Z
URL:https://members.visitdeepcreek.com/events/details/wine-in-the-woods-at-savage-river-lodge-03-26-2022-36796
END:VEVENT

END:VCALENDAR
