BEGIN:VCALENDAR
VERSION:2.0
PRODID:-//ChamberMaster//Event Calendar 2.0//EN
METHOD:PUBLISH
X-PUBLISHED-TTL:P3D
REFRESH-INTERVAL:P3D
CALSCALE:GREGORIAN
BEGIN:VEVENT
DTSTART:20220226T190000Z
DTEND:20220226T200000Z
X-MICROSOFT-CDO-ALLDAYEVENT:FALSE
SUMMARY:Wine in the Woods adventure wine tasting
DESCRIPTION:An adventure wine tasting\, tasting 6 wines with light hors d'oeuvres along an approximately mile-long trail in the woods. This popular event will occur rain or shine\, with a modified route possible in the event of inclement weather. Leashed pets welcome\, must be at least 21 years old to participate. Call 301-689-3200 or email info@savageriverlodge.com to register. Non-overnight guests must have 4WD/AWD vehicle access and make advance payment\, $42 plus tax
X-ALT-DESC;FMTTYPE=text/html:<p>An adventure wine tasting\, tasting 6 wines with light hors d&#39\;oeuvres along an approximately mile-long trail in the woods. This popular event will occur rain or shine\, with a modified route possible in the event of inclement weather. Leashed pets welcome\, must be at least 21 years old to participate. Call 301-689-3200 or email info@savageriverlodge.com to register.&nbsp\;<em>Non-overnight guests must have 4WD/AWD vehicle access and make advance payment\,&nbsp\;$42 plus tax</em></p>\n
LOCATION:Savage River Lodge 1600 Mt. Aetna Rd. Frostburg\, MD 21532
UID:e.847.36728
SEQUENCE:3
DTSTAMP:20260420T185135Z
URL:https://members.visitdeepcreek.com/events/details/wine-in-the-woods-adventure-wine-tasting-36728
END:VEVENT

END:VCALENDAR
