BEGIN:VCALENDAR
VERSION:2.0
PRODID:-//ChamberMaster//Event Calendar 2.0//EN
METHOD:PUBLISH
X-PUBLISHED-TTL:P3D
REFRESH-INTERVAL:P3D
CALSCALE:GREGORIAN
BEGIN:VEVENT
DTSTART:20230603T180000Z
DTEND:20230603T190000Z
X-MICROSOFT-CDO-ALLDAYEVENT:FALSE
SUMMARY:Wine in the Woods
DESCRIPTION:Our signature event! An adventure wine tasting on our trails\, tasting six wines with light hors d'oeuvres along the way\, concluding around the Lodge bonfire.
X-ALT-DESC;FMTTYPE=text/html:<em>Our signature&nbsp\;event!</em> An<em>&nbsp\;</em>adventure wine tasting on our trails\, tasting six wines with light hors d&#39\;oeuvres along the way\, concluding around the Lodge bonfire.<em>&nbsp\;</em>
LOCATION:Savage River Lodge 1600 Mount Aetna Rd Frostburg\, MD 21532
UID:e.847.38507
SEQUENCE:3
DTSTAMP:20260419T172351Z
URL:https://members.visitdeepcreek.com/events/details/wine-in-the-woods-06-03-2023-38507
END:VEVENT

END:VCALENDAR
