BEGIN:VCALENDAR
VERSION:2.0
PRODID:-//ChamberMaster//Event Calendar 2.0//EN
METHOD:PUBLISH
X-PUBLISHED-TTL:P3D
REFRESH-INTERVAL:P3D
CALSCALE:GREGORIAN
BEGIN:VEVENT
DTSTART:20220429T180000Z
DTEND:20220429T200000Z
X-MICROSOFT-CDO-ALLDAYEVENT:FALSE
SUMMARY:Wine class with Denise Gough
DESCRIPTION:Enjoy an in-depth tasting of five wines alongside expertly paired hors d'oeuvres with experienced wine educator and longtime Lodge Lover\, Denise Gough. You'll explore Denise's favorite wines of the moment\, and develop a deeper appreciation for this highly nuanced craft.
X-ALT-DESC;FMTTYPE=text/html:<p>Enjoy an in-depth tasting of five wines alongside expertly paired hors d&#39\;oeuvres with experienced wine educator and longtime Lodge Lover\, Denise Gough. You&rsquo\;ll explore Denise&rsquo\;s favorite wines of the moment\, and develop a deeper appreciation for this highly nuanced craft.</p>\n
LOCATION:Savage River Lodge 1600 Mt Aetna Rd Frostburg\, MD 21532
UID:e.847.36815
SEQUENCE:3
DTSTAMP:20260420T154208Z
URL:https://members.visitdeepcreek.com/events/details/wine-class-with-denise-gough-36815
END:VEVENT

END:VCALENDAR
