BEGIN:VCALENDAR
VERSION:2.0
PRODID:-//ChamberMaster//Event Calendar 2.0//EN
METHOD:PUBLISH
X-PUBLISHED-TTL:P3D
REFRESH-INTERVAL:P3D
CALSCALE:GREGORIAN
BEGIN:VEVENT
DTSTART:20221008T180000Z
DTEND:20221009T000000Z
X-MICROSOFT-CDO-ALLDAYEVENT:FALSE
SUMMARY:Wildom Farm Party
DESCRIPTION:Join us at Wildom Farm on Saturday\, October 8th from 2-8pm to celebrate our LOCAL community   with farm to table food\, farm to bar cocktails\, local bands\, and activities for the whole family. Tickets: $30 (5 & under free) *Ticket price includes all activities\, food\, and non-alcoholic beverages* *Alcohol will be sold separately at our cash bar run by Liberated Libations* (Farm to bar cocktails\, beer\, wine\, and cider) *Outside alcohol is prohibited* *Tickets must be purchased in advance\, ticket sales will end on October 2* SCHEDULE: 2PM DOORS OPEN 2:30PM WILDOM FARM TOUR 4-6PM FOOD: Wildom PIG ROAST\, Wildom SMOKED CHICKEN\, Locally sourced SEASONAL SIDES 2-7PM BAR BY LIBERATED LIBATIONS 2:30-7:30PM LIVE MUSIC BY LOCAL ARTISTS Activities Throughout the Day: KID'S SCAVENGER HUNTS\, CORNHOLE\, FRISBEE GOLF\, COLLEGE FOOTBALL\, BONFIRE
X-ALT-DESC;FMTTYPE=text/html:Join us at Wildom Farm on Saturday\, October 8th from 2-8pm to celebrate our LOCAL community &ndash\; with farm to table food\, farm to bar cocktails\, local bands\, and activities for the whole family. Tickets: $30 (5 &amp\; under free) *Ticket price includes all activities\, food\, and non-alcoholic beverages* *Alcohol will be sold separately at our cash bar run by Liberated Libations* (Farm to bar cocktails\, beer\, wine\, and cider) *Outside alcohol is prohibited* *Tickets must be purchased in advance\, ticket sales will end on October 2* SCHEDULE: 2PM DOORS OPEN 2:30PM WILDOM FARM TOUR 4-6PM FOOD: Wildom PIG ROAST\, Wildom SMOKED CHICKEN\, Locally sourced SEASONAL SIDES 2-7PM BAR BY LIBERATED LIBATIONS 2:30-7:30PM LIVE MUSIC BY LOCAL ARTISTS Activities Throughout the Day: KID&rsquo\;S SCAVENGER HUNTS\, CORNHOLE\, FRISBEE GOLF\, COLLEGE FOOTBALL\, BONFIRE
LOCATION:Wildom Farm\, 6675 Sang Run Rd\, McHenry\, MD 21541
UID:e.847.38378
SEQUENCE:3
DTSTAMP:20260420T061053Z
URL:https://members.visitdeepcreek.com/events/details/wildom-farm-party-38378
END:VEVENT

END:VCALENDAR
