BEGIN:VCALENDAR
VERSION:2.0
PRODID:-//ChamberMaster//Event Calendar 2.0//EN
METHOD:PUBLISH
X-PUBLISHED-TTL:P3D
REFRESH-INTERVAL:P3D
CALSCALE:GREGORIAN
BEGIN:VEVENT
DTSTART:20220522T140000Z
DTEND:20220522T163000Z
X-MICROSOFT-CDO-ALLDAYEVENT:FALSE
SUMMARY:Wildflower & Photography Walk
DESCRIPTION:This fun wildflower pilgrimage takes place along the Kendall Trail in the Youghiogheny Wild and Scenic River Corridor. This walk will be fun for all ages and the pace is mellow.  If you like photography you will have plenty of scenic subjects to capture\, from river scenes\, to flowers\, to lichens\, mosses etc. Phone camera users are welcome.\nWhat you might see?\n\n\n	Trout lilies\n	Spring Beauties\n	Trilliums\n	Lady Slipper Orchids\n	Squaw Root\n	Violets\n	Jack in-the Pulpit\n	Wood Anemone\n	Bladderwort\n	Bleeding Heart\n	Dutchmens Britches\n	Beautiful river and water subjects\n	and more!!!!!!!!!!!!!!!!\n\n\n\nYou don't need any experience and we will have fun looking for the fleeting ephemeral flowers. Crede is also very well versed in the local history so you can learn about the colorful history of Garrett County's oldest settlement. We will of course also be looking for birds\, frogs and specifically warblers on spring migration and water birds like green herons\, bald eagles\, osprey\, kingfishers and mergansers etc. \n\n\n\nGuides: Carol and Crede Calhoun
X-ALT-DESC;FMTTYPE=text/html:This fun wildflower&nbsp\;<span style="color: rgb(51\, 51\, 51)\; font-family: sans-serif\, Arial\, Verdana\, &quot\;Trebuchet MS&quot\;\; font-size: 13px\; background-color: rgb(255\, 255\, 255)\;">pilgrimage</span> takes place along the Kendall Trail in the Youghiogheny Wild and Scenic River Corridor. This walk will be fun for all ages and the pace is mellow.&nbsp\; If you like photography you will have plenty of scenic subjects to capture\, from river scenes\, to flowers\, to lichens\, mosses etc. Phone camera users are welcome.\n<p style="margin-left:0px\; margin-right:0px">What you might see?</p>\n\n<ul style="margin-left:0px\; margin-right:0px">\n	<li>Trout lilies</li>\n	<li>Spring Beauties</li>\n	<li>Trilliums</li>\n	<li>Lady Slipper Orchids</li>\n	<li>Squaw Root</li>\n	<li>Violets</li>\n	<li>Jack in-the Pulpit</li>\n	<li>Wood Anemone</li>\n	<li>Bladderwort</li>\n	<li>Bleeding Heart</li>\n	<li>Dutchmens Britches</li>\n	<li>Beautiful river and water subjects</li>\n	<li>and more!!!!!!!!!!!!!!!!</li>\n</ul>\n<br />\nYou don&#39\;t need any experience and we will have fun looking for the fleeting ephemeral flowers. Crede is also very well versed in the local history so you can learn about the colorful history of Garrett County&#39\;s oldest settlement. We will of course also be looking for birds\, frogs and specifically warblers on spring migration and water birds like green herons\, bald eagles\, osprey\, kingfishers and mergansers etc.&nbsp\;<br />\n<br />\nGuides: Carol and Crede Calhoun<br />\n&nbsp\;
LOCATION:Kendall Trail in the Yough Wild and Scenic River Corridor. Meet at All Earth Eco Tours Headquarters\, 720 Morris Ave Friendsville\, 21531 Meet at 10:00 AM
UID:e.847.37140
SEQUENCE:3
DTSTAMP:20260420T153808Z
URL:https://members.visitdeepcreek.com/events/details/wildflower-photography-walk-37140
END:VEVENT

END:VCALENDAR
