BEGIN:VCALENDAR
VERSION:2.0
PRODID:-//ChamberMaster//Event Calendar 2.0//EN
METHOD:PUBLISH
X-PUBLISHED-TTL:P3D
REFRESH-INTERVAL:P3D
CALSCALE:GREGORIAN
BEGIN:VEVENT
DTSTART:20220604T233000Z
DTEND:20220605T013000Z
X-MICROSOFT-CDO-ALLDAYEVENT:FALSE
SUMMARY:West Virginia Symphony Orchestra with Lawrence Loh
DESCRIPTION:Join Maestro Lawrence Loh and the musicians of the West Virginia Symphony Orchestra for an musical evening of light classics and fun family favorites from film scores to opera.
X-ALT-DESC;FMTTYPE=text/html:<span style="color:rgb(0\, 0\, 0)\; font-family:open sans\,arial\,sans-serif\; font-size:16px">Join Maestro Lawrence Loh and the musicians of the West Virginia Symphony Orchestra for an musical evening of light classics and fun family favorites from film scores to opera.</span>
LOCATION:Crossroads Church
UID:e.847.36691
SEQUENCE:3
DTSTAMP:20260420T124801Z
URL:https://members.visitdeepcreek.com/events/details/west-virginia-symphony-orchestra-with-lawrence-loh-36691
END:VEVENT

END:VCALENDAR
