BEGIN:VCALENDAR
VERSION:2.0
PRODID:-//ChamberMaster//Event Calendar 2.0//EN
METHOD:PUBLISH
X-PUBLISHED-TTL:P3D
REFRESH-INTERVAL:P3D
CALSCALE:GREGORIAN
BEGIN:VEVENT
DTSTART:20220214T220000Z
DTEND:20220215T013000Z
X-MICROSOFT-CDO-ALLDAYEVENT:FALSE
SUMMARY:Valentine Chef's Dinner
DESCRIPTION:Valentine Chef's Dinner\n\nMonday\, February 14\n\n5PM & 7PM\n\n\n\nCelebrate the romance of the season at an intimate\, candlelit dinner by Chef Martin Galloway\, CEC. Enjoy live jazz from Jenny & Nathan Wilson while experiencing a three-course prix fixe menu with sparkling wine finish. Wine pairings and other beverages may be purchased a la carte to accompany the meal.\n\n\n\nReservations essential\, $70 per person\, prior to tax and gratuity. Carry-out option available at 6:30PM. A $25 per-person deposit is required to hold your seat and will be credited to your final bill.
X-ALT-DESC;FMTTYPE=text/html:<h3>Valentine Chef&rsquo\;s Dinner</h3>\n\n<p><strong>Monday\, February 14</strong><br />\n5PM &amp\; 7PM<br />\n<br />\nCelebrate the romance of the season at an intimate\, candlelit dinner by Chef Martin Galloway\, CEC. Enjoy live jazz from Jenny &amp\; Nathan Wilson while experiencing a three-course prix fixe menu with sparkling wine finish. Wine pairings and other beverages may be purchased a la carte to accompany the meal.<br />\n<br />\nReservations essential\,&nbsp\;$70 per person\, prior to tax and gratuity. Carry-out option available at 6:30PM.&nbsp\;<em>A $25 per-person deposit is required to hold your seat and will be credited to your final bill.</em></p>\n
LOCATION:The Cornucopia Caf 146 Casselman Rd. Grantsville\, MD 21536
UID:e.847.36766
SEQUENCE:3
DTSTAMP:20260420T202316Z
URL:https://members.visitdeepcreek.com/events/details/valentine-chef-s-dinner-36766
END:VEVENT

END:VCALENDAR
