BEGIN:VCALENDAR
VERSION:2.0
PRODID:-//ChamberMaster//Event Calendar 2.0//EN
METHOD:PUBLISH
X-PUBLISHED-TTL:P3D
REFRESH-INTERVAL:P3D
CALSCALE:GREGORIAN
BEGIN:VEVENT
DTSTART:20220610T233000Z
DTEND:20220611T003000Z
X-MICROSOFT-CDO-ALLDAYEVENT:FALSE
SUMMARY:Tribute to Joseph F. Bender
DESCRIPTION:"A Tribute to Joseph F. Bender"- Fri. June 10\, 2022 - 7:30 PM -Long-time Springs Historical Society President\, Folk Festival Chairman\, and Community Organizer.  Free & open to the public.  Sponsored by the Springs Historical Society.  1711 Springs Rd.\, Springs\, PA - 814-442-4594  www.springspa.org & Facebook\n\n\n\n**Out-of-County Regional Event**
X-ALT-DESC;FMTTYPE=text/html:<span style="font-family:times new roman\,serif"><span style="font-size:12.0pt">&ldquo\;A Tribute to Joseph F. Bender&rdquo\;- Fri. June 10\, 2022 - 7:30 PM -Long-time Springs Historical Society President\, Folk Festival Chairman\, and Community Organizer.&nbsp\;&nbsp\;Free &amp\; open to the public.&nbsp\; Sponsored by the Springs Historical Society.&nbsp\; 1711 Springs Rd.\, Springs\, PA - 814-442-4594&nbsp\;&nbsp\;<a href="http://www.springspa.org/" target="_blank"><span style="color:blue">www.springspa.org</span></a>&nbsp\;&amp\; Facebook</span></span><br />\n<br />\n<strong style="color: rgb(255\, 0\, 0)\; font-family: sans-serif\, Arial\, Verdana\, &quot\;Trebuchet MS&quot\;\; font-size: 13px\; background-color: rgb(255\, 255\, 255)\;">**Out-of-County Regional Event**</strong><br />\n&nbsp\;
LOCATION:Folk Meeting House 1711 Springs Rd.\, Springs\, PA 15562
UID:e.847.37102
SEQUENCE:3
DTSTAMP:20260420T124733Z
URL:https://members.visitdeepcreek.com/events/details/tribute-to-joseph-f-bender-37102
END:VEVENT

END:VCALENDAR
