BEGIN:VCALENDAR
VERSION:2.0
PRODID:-//ChamberMaster//Event Calendar 2.0//EN
METHOD:PUBLISH
X-PUBLISHED-TTL:P3D
REFRESH-INTERVAL:P3D
CALSCALE:GREGORIAN
BEGIN:VEVENT
DTSTART:20220517T220000Z
DTEND:20220517T230000Z
X-MICROSOFT-CDO-ALLDAYEVENT:FALSE
SUMMARY:Trauma Informed Care Town Hall
DESCRIPTION:The Garrett County Health Department is hosting a second of two Trauma Informed Care Town Hall meetings on May 17 from 6-7:30 p.m. at Northern Middle School. A panel of 4 professionals will be speaking about what Trauma Informed Care is \,how to recognize trauma in individuals and possible ways to help those who have suffered from trauma. The question we should ask is not\, "What is wrong with you" but rather\, "What happened to you?" Please come out and educate yourself on this very important topic.
X-ALT-DESC;FMTTYPE=text/html:The Garrett County Health Department is hosting a second of two Trauma Informed Care Town Hall meetings on May 17 from 6-7:30 p.m. at Northern Middle School. A panel of 4 professionals will be speaking about what Trauma Informed Care is \,how to recognize trauma in individuals and possible ways to help those who have suffered from trauma. The question we should ask is not\, &quot\;What is wrong with you&quot\; but rather\, &quot\;What happened to you?&quot\; Please come out and educate yourself on this very important topic.
LOCATION:Northern Middle School
UID:e.847.37164
SEQUENCE:3
DTSTAMP:20260420T153804Z
URL:https://members.visitdeepcreek.com/events/details/trauma-informed-care-town-hall-37164
END:VEVENT

END:VCALENDAR
