BEGIN:VCALENDAR
VERSION:2.0
PRODID:-//ChamberMaster//Event Calendar 2.0//EN
METHOD:PUBLISH
X-PUBLISHED-TTL:P3D
REFRESH-INTERVAL:P3D
CALSCALE:GREGORIAN
BEGIN:VEVENT
DTSTART:20220523T233000Z
DTEND:20220524T003000Z
X-MICROSOFT-CDO-ALLDAYEVENT:FALSE
SUMMARY:"The Yet Untold Suffragette Story"
DESCRIPTION:Monday May 23\, 2022 - 7:30 PM\n\nJen Hurl of the Meyersdale Public Library brings to life the story of local women who led the cause to\n\n\nwin the battle for women's suffrage.  Free & open to the public.  Sponsored by the Springs Historical Society.  1711 Springs Rd.\, Springs\, PA - 814-442-4594  www.springspa.org & Facebook\n\n\n\n**Out-of-County Regional Event**
X-ALT-DESC;FMTTYPE=text/html:<div style="text-align:start">\n<div>Monday May 23\, 2022 - 7:30 PM</div>\n\n<div>Jen Hurl of the Meyersdale Public Library brings to life the story of local women who led the cause to</div>\n</div>\n\n<div style="text-align:start">win the battle for women&#39\;s suffrage.&nbsp\; Free &amp\; open to the public.&nbsp\; Sponsored by the Springs Historical Society.&nbsp\; 1711 Springs Rd.\, Springs\, PA - 814-442-4594&nbsp\;&nbsp\;<a href="http://www.springspa.org/" rel="nofollow noopener noreferrer" style="text-decoration: underline\; color: blue\; cursor: pointer\;" target="_blank">www.springspa.org</a>&nbsp\;&amp\; Facebook<br />\n<br />\n<span style="color:#FF0000\;"><strong>**Out-of-County Regional Event**</strong></span></div>\n
LOCATION:1711 Springs Rd. Springs\, PA 15562
UID:e.847.37101
SEQUENCE:3
DTSTAMP:20260420T153804Z
URL:https://members.visitdeepcreek.com/events/details/the-yet-untold-suffragette-story-37101
END:VEVENT

END:VCALENDAR
