BEGIN:VCALENDAR
VERSION:2.0
PRODID:-//ChamberMaster//Event Calendar 2.0//EN
METHOD:PUBLISH
X-PUBLISHED-TTL:P3D
REFRESH-INTERVAL:P3D
CALSCALE:GREGORIAN
BEGIN:VEVENT
DTSTART:20220725T233000Z
DTEND:20220726T003000Z
X-MICROSOFT-CDO-ALLDAYEVENT:FALSE
SUMMARY:The Vote from Somerset that Ended Slavery
DESCRIPTION:Monday July 25\, 2022 - 7:30 PM "The Vote from Somerset that Ended Slavery"\n\nCong. Alexander Coffroth's Pivotal 'Aye' that passed the 1eth Amendment.  Includes clips from the Spielburg movie "Lincoln".\n\nSponsored by Springs Hist. Society  1711SpringsRd.\, Springs\, PA 15562\n\nFree and open to the public.  814-442-4594  www.springspa.org\n\n\n\n**Out-of-County Regional Event**
X-ALT-DESC;FMTTYPE=text/html:Monday July 25\, 2022 - 7:30 PM &quot\;The Vote from Somerset that Ended Slavery&quot\;<br />\nCong. Alexander Coffroth&#39\;s Pivotal &#39\;Aye&#39\; that passed the 1eth Amendment.&nbsp\; Includes clips from the Spielburg movie &quot\;Lincoln&quot\;.<br />\nSponsored by Springs Hist. Society&nbsp\; 1711SpringsRd.\, Springs\, PA 15562<br />\nFree and open to the public.&nbsp\; 814-442-4594&nbsp\; www.springspa.org<br />\n<br />\n<strong style="color: rgb(255\, 0\, 0)\; font-family: sans-serif\, Arial\, Verdana\, &quot\;Trebuchet MS&quot\;\; font-size: 13px\; background-color: rgb(255\, 255\, 255)\;">**Out-of-County Regional Event**</strong>
LOCATION:1711 Springs Rd.\, Springs\, PA 15562
UID:e.847.37853
SEQUENCE:3
DTSTAMP:20260420T112049Z
URL:https://members.visitdeepcreek.com/events/details/the-vote-from-somerset-that-ended-slavery-37853
END:VEVENT

END:VCALENDAR
