BEGIN:VCALENDAR
VERSION:2.0
PRODID:-//ChamberMaster//Event Calendar 2.0//EN
METHOD:PUBLISH
X-PUBLISHED-TTL:P3D
REFRESH-INTERVAL:P3D
CALSCALE:GREGORIAN
BEGIN:VEVENT
DTSTART;VALUE=DATE:20220709
DTEND;VALUE=DATE:20220711
TRANSP:TRANSPARENT
X-MICROSOFT-CDO-ALLDAYEVENT:TRUE
SUMMARY:The Victorian Chautauqua
DESCRIPTION:Each year\, Mountain Lake Park celebrates its founding with a free Victorian Chautauqua weekend following the 4th of July. Historical performances\, lectures\, live music\, vendors and artisans\, food\, trolley bus tours\, and activities relive a bygone era that began as a planned community along the B&O Railroad. Don't forget the little ones. Kid-Tauquau has a full schedule of programs and activities. \n\nNestled in the registered Historic District of Mountain Lake Park in the Appalachian Mountains of Maryland\, everyone becomes immersed in Victorian charm. Besides the regular program schedule\, you can also enjoy many activities that include a Model T showcase\, Wheelman demonstrations\, commission a tintype photograph or a hand-cut silhouette portrait\, or tour the Historic Ticket Office Museum. Take a relaxing stroll along the tree-lined streets with a self-guided tour map of the summer cottages built around the turn of the last century.
X-ALT-DESC;FMTTYPE=text/html:<h3>Each year\, Mountain Lake Park celebrates its founding with a free Victorian Chautauqua weekend following the 4th of July. Historical performances\, lectures\, live music\, vendors and artisans\, food\, trolley bus tours\, and activities relive a bygone era that began as a planned community along the B&amp\;O Railroad. Don&#39\;t forget the little ones. Kid-Tauquau has a full schedule of programs and activities.&nbsp\;</h3>\n\n<p>Nestled in the registered Historic District of Mountain Lake Park in the Appalachian Mountains of Maryland\, everyone becomes immersed in Victorian charm. Besides the regular program schedule\, you can also enjoy many activities that include a Model T showcase\, Wheelman demonstrations\, commission a tintype photograph or a hand-cut silhouette portrait\, or tour the Historic Ticket Office Museum. Take a relaxing stroll along the tree-lined streets with a self-guided tour map of the summer cottages built around the turn of the last century.&nbsp\;</p>\n
LOCATION:301 G Street\, Mountain Lake Park\, MD 21550
UID:e.847.36723
SEQUENCE:3
DTSTAMP:20260420T124801Z
URL:https://members.visitdeepcreek.com/events/details/the-victorian-chautauqua-07-09-2022-36723
END:VEVENT

END:VCALENDAR
