BEGIN:VCALENDAR
VERSION:2.0
PRODID:-//ChamberMaster//Event Calendar 2.0//EN
METHOD:PUBLISH
X-PUBLISHED-TTL:P3D
REFRESH-INTERVAL:P3D
CALSCALE:GREGORIAN
BEGIN:VEVENT
DTSTART:20220526T230000Z
DTEND:20220527T010000Z
X-MICROSOFT-CDO-ALLDAYEVENT:FALSE
SUMMARY:The Studio - Paint & Plant - Wildflower Edition
DESCRIPTION:Paint and Plant a Wildflower Container Garden!\n\n \n\nRelease your inner Van Gogh as you create your own personal painted flower garden on a tin planter. Once dried\, add fresh soil and plant zinnias\, marigolds and cosmos in this cute container garden. You can choose to finish the job at the studio or take your plant materials home & follow the easy instructions to plant your garden there.\n\n \n\nClass Notes: This class is recommended for adults and children above 6 years old with adult supervision and assistance.\n\n \n\nAbout The Studio: Guest are welcome to bring snacks and drinks. Bottled water\, Western Maryland Lemonade and some snacks will be available for purchase. Guests are permitted to bring their own adult beverages. We encourage you to visit our neighbors for snacks and beverages. (Our sister store - A Mountain FIx\, Short Story Brewing Company\, Pine Lodge Steakhouse\, Black Bear Tavern and Deep Creek Funzone)\n\nThe Gallery at Marsh Hill Mercantile will be open during breaks for browsing and shopping our local artists!
X-ALT-DESC;FMTTYPE=text/html:<div><strong>Paint and Plant a Wildflower Container Garden!</strong><br />\n&nbsp\;</div>\n\n<div>Release your inner Van Gogh as you create your own personal painted flower garden on a tin planter. Once dried\, add fresh soil and plant zinnias\, marigolds and cosmos in this cute container garden. You can choose to finish the job at the studio or take your plant materials home &amp\; follow the easy instructions to plant your garden there.<br />\n&nbsp\;</div>\n\n<div><strong>Class Notes</strong>: This class is recommended for adults and children above 6 years old with adult supervision and assistance.<br />\n&nbsp\;</div>\n\n<div><strong>About The Studio:</strong> Guest are welcome to bring snacks and drinks. Bottled water\, Western Maryland Lemonade and some snacks will be available for purchase. Guests are permitted to bring their own adult beverages. We encourage you to visit our neighbors for snacks and beverages. (Our sister store - A Mountain FIx\, Short Story Brewing Company\, Pine Lodge Steakhouse\, Black Bear Tavern and Deep Creek Funzone)</div>\n\n<div>The Gallery at Marsh Hill Mercantile will be open during breaks for browsing and shopping our local artists!</div>\n
LOCATION:1550 Deep Creek Drive\, Suite D\, McHenry\, MD 21541
UID:e.847.37197
SEQUENCE:3
DTSTAMP:20260420T141358Z
URL:https://members.visitdeepcreek.com/events/details/the-studio-paint-plant-wildflower-edition-37197
END:VEVENT

END:VCALENDAR
