BEGIN:VCALENDAR
VERSION:2.0
PRODID:-//ChamberMaster//Event Calendar 2.0//EN
METHOD:PUBLISH
X-PUBLISHED-TTL:P3D
REFRESH-INTERVAL:P3D
CALSCALE:GREGORIAN
BEGIN:VEVENT
DTSTART:20220706T220000Z
DTEND:20220707T000000Z
X-MICROSOFT-CDO-ALLDAYEVENT:FALSE
SUMMARY:The Studio - Paint and Plant - Garden Herbs Pizza Party!
DESCRIPTION:Create your own personal painted flower garden on a tin planter.\n\nOnce dried\, add fresh soil and plant different types of herbs in this cute container garden.\n\n \n\nIncludes pizza from Deep Creek Fun Zone and your choice of a Western MD Lemonade or Hint water. You may bring other snacks\, drinks or adult beverages.\n\n \n\nCost: $40.00\n\n \n\nClass Notes: You will be working with acrylic-based paint and brushes. We provide the apron\, but wear easily washable clothing should you get any paint on you. This class is recommended for adults and children above 12 years old with adult supervision and assistance.\n\n \n\nAbout The Studio: Guests are welcome to bring snacks and drinks. Bottled water\, Western Maryland Lemonade and some snacks will be available for purchase. Guests are permitted to bring their own adult beverages.\n\n \n\nThe Gallery at Marsh Hill Mercantile will be open during breaks for browsing and shopping our local artists! \nSee less
X-ALT-DESC;FMTTYPE=text/html:<div><strong>Create your own personal painted flower garden on a tin planter.</strong><br />\nOnce dried\, add fresh soil and plant different types of herbs in this cute container garden.<br />\n&nbsp\;</div>\n\n<div><strong>Includes pizza from Deep Creek Fun Zone</strong> and your choice of a Western MD Lemonade or Hint water. You may bring other snacks\, drinks or adult beverages.<br />\n&nbsp\;</div>\n\n<div>Cost: $40.00<br />\n&nbsp\;</div>\n\n<div><strong>Class Notes: </strong>You will be working with acrylic-based paint and brushes. We provide the apron\, but wear easily washable clothing should you get any paint on you. This class is recommended for adults and children above 12 years old with adult supervision and assistance.<br />\n&nbsp\;</div>\n\n<div><strong>About The Studio:</strong> Guests are welcome to bring snacks and drinks. Bottled water\, Western Maryland Lemonade and some snacks will be available for purchase. Guests are permitted to bring their own adult beverages.<br />\n&nbsp\;</div>\n\n<div>The Gallery at Marsh Hill Mercantile will be open during breaks for browsing and shopping our local artists!&nbsp\;\n<div style="text-align:inherit">See less</div>\n</div>\n
LOCATION:1550-D Deep Creek Drive\, McHenry\, MD 21541
UID:e.847.37739
SEQUENCE:3
DTSTAMP:20260420T124604Z
URL:https://members.visitdeepcreek.com/events/details/the-studio-paint-and-plant-garden-herbs-pizza-party-37739
END:VEVENT

END:VCALENDAR
