BEGIN:VCALENDAR
VERSION:2.0
PRODID:-//ChamberMaster//Event Calendar 2.0//EN
METHOD:PUBLISH
X-PUBLISHED-TTL:P3D
REFRESH-INTERVAL:P3D
CALSCALE:GREGORIAN
BEGIN:VEVENT
DTSTART;VALUE=DATE:20231028
DTEND;VALUE=DATE:20231030
TRANSP:TRANSPARENT
X-MICROSOFT-CDO-ALLDAYEVENT:TRUE
SUMMARY:The Studio - Paint-a-Palooza Weekend! Drop in and paint a pumpkin or planter!
DESCRIPTION:Learn about the happy celebration from South of the Border - Dia de Los Muertos at our Paint-A-Palooza weekend!\n\n \n\nJust drop in on Saturday\, October 28th or Sunday\, October 29th between 11am & 4pm. Choose between a keepsake Pumpkin Catrina or a Painted Planter featuring marigolds\, the flower of the celebration.\n\n \n\n$25 per person for either craft.\n\n \n\nDrop in or secure your spot in advance at (our link). Better yet\, schedule your own paint party. Contact us for open dates!
X-ALT-DESC;FMTTYPE=text/html:<div>Learn about the happy celebration from South of the Border - <strong>Dia de Los Muertos</strong> at our <strong>Paint-A-Palooza weekend!</strong><br />\n&nbsp\;</div>\n\n<div>Just drop in on Saturday\, October 28th or Sunday\, October 29th between 11am &amp\; 4pm. Choose between a keepsake <strong>Pumpkin Catrina</strong> or a <strong>Painted Planter</strong> featuring marigolds\, the flower of the celebration.<br />\n&nbsp\;</div>\n\n<div>$25 per person for either craft.<br />\n&nbsp\;</div>\n\n<div>Drop in or secure your spot in advance at (our link). Better yet\, schedule your own paint party. Contact us for open dates!&nbsp\;</div>\n
LOCATION:1550 Deep Creek Drive\, Suite B\, McHenry\, MD 21541
UID:e.847.39474
SEQUENCE:3
DTSTAMP:20260419T131254Z
URL:https://members.visitdeepcreek.com/events/details/the-studio-paint-a-palooza-weekend-drop-in-and-paint-a-pumpkin-or-planter-39474
END:VEVENT

END:VCALENDAR
