BEGIN:VCALENDAR
VERSION:2.0
PRODID:-//ChamberMaster//Event Calendar 2.0//EN
METHOD:PUBLISH
X-PUBLISHED-TTL:P3D
REFRESH-INTERVAL:P3D
CALSCALE:GREGORIAN
BEGIN:VEVENT
DTSTART:20220715T220000Z
DTEND:20220716T000000Z
X-MICROSOFT-CDO-ALLDAYEVENT:FALSE
SUMMARY:The Studio – Make a Welcome Board for your Entry Way
DESCRIPTION:Make a Welcome sign on a wood board to hang in your entry way or foyer.\n\n \n\n\n\nAbout The Studio: Guests are welcome to bring snacks and drinks. Bottled water\, Western Maryland Lemonade and some snacks will be available for purchase. Guests are permitted to bring their own adult beverages. We encourage you to visit our neighbors for snacks and beverages. (Our sister store - A Mountain FIx\, Short Story Brewing Company\, Pine Lodge Steakhouse\, Black Bear Tavern and Deep Creek Funzone).\n\n \n\nThe Gallery at Marsh Hill Mercantile will be open during breaks for browsing and shopping our local artists!
X-ALT-DESC;FMTTYPE=text/html:<div>\n<div>\n<div><strong>Make a Welcome sign on a wood board to hang in your entry way or foyer.</strong><br />\n&nbsp\;</div>\n</div>\n</div>\n\n<div><strong>About The Studio: </strong>Guests are welcome to bring snacks and drinks. Bottled water\, Western Maryland Lemonade and some snacks will be available for purchase. Guests are permitted to bring their own adult beverages. We encourage you to visit our neighbors for snacks and beverages. (Our sister store - A Mountain FIx\, Short Story Brewing Company\, Pine Lodge Steakhouse\, Black Bear Tavern and Deep Creek Funzone).</div>\n\n<div>&nbsp\;</div>\n\n<div>The Gallery at Marsh Hill Mercantile will be open during breaks for browsing and shopping our local artists!</div>\n
LOCATION:1550-D Deep Creek Drive\, McHenry\, MD 21541
UID:e.847.37746
SEQUENCE:3
DTSTAMP:20260420T111037Z
URL:https://members.visitdeepcreek.com/events/details/the-studio-make-a-welcome-board-for-your-entry-way-37746
END:VEVENT

END:VCALENDAR
