BEGIN:VCALENDAR
VERSION:2.0
PRODID:-//ChamberMaster//Event Calendar 2.0//EN
METHOD:PUBLISH
X-PUBLISHED-TTL:P3D
REFRESH-INTERVAL:P3D
CALSCALE:GREGORIAN
BEGIN:VEVENT
DTSTART:20220702T230000Z
DTEND:20220703T010000Z
X-MICROSOFT-CDO-ALLDAYEVENT:FALSE
SUMMARY:The Studio - Make a Dough Bowl Candle with Mel's Candles!
DESCRIPTION:Make a Dough Bowl Candle with Melissa from Mel's Candles!\n\n \n\nLearn how to make a triple wood wick candle. Mix scent into the wax and pour into a rustic wooden dough bowl. Once things cool\, embellish your candle with dried flowers and a ribbon to make it the perfect gift for yourself or someone special!\n\n \n\nClass Notes: You will be working with hot wax\, hot glue and a heat gun. Safety glasses will be available for your use while working with hot wax. This class is recommended for adults and children above 12 years old with adult supervision and assistance.\n\n \n\nAbout The Studio: Guests are welcome to bring snacks and drinks. Bottled water\, Western Maryland Lemonade and some snacks will be available for purchase. Guests are permitted to bring their own adult beverages. We encourage you to visit our neighbors for snacks and beverages. (Our sister store - A Mountain FIx\, Short Story Brewing Company\, Pine Lodge Steakhouse\, Black Bear Tavern and Deep Creek Funzone).\n\nThe Gallery at Marsh Hill Mercantile will be open during breaks for browsing and shopping our local artists!
X-ALT-DESC;FMTTYPE=text/html:<div><strong>Make a Dough Bowl Candle with Melissa from Mel&#39\;s Candles!</strong><br />\n&nbsp\;</div>\n\n<div>Learn how to make a triple wood wick candle. Mix scent into the wax and pour into a rustic wooden dough bowl. Once things cool\, embellish your candle with dried flowers and a ribbon to make it the perfect gift for yourself or someone special!<br />\n&nbsp\;</div>\n\n<div><strong>Class Notes:</strong> You will be working with hot wax\, hot glue and a heat gun. Safety glasses will be available for your use while working with hot wax. This class is recommended for adults and children above 12 years old with adult supervision and assistance.<br />\n&nbsp\;</div>\n\n<div><strong>About The Studio:</strong> Guests are welcome to bring snacks and drinks. Bottled water\, Western Maryland Lemonade and some snacks will be available for purchase. Guests are permitted to bring their own adult beverages. We encourage you to visit our neighbors for snacks and beverages. (Our sister store - A Mountain FIx\, Short Story Brewing Company\, Pine Lodge Steakhouse\, Black Bear Tavern and Deep Creek Funzone).</div>\n\n<div>The Gallery at Marsh Hill Mercantile will be open during breaks for browsing and shopping our local artists!</div>\n
LOCATION:1550 Deep Creek Drive\, Suite D\, McHenry\, MD 21541
UID:e.847.37731
SEQUENCE:3
DTSTAMP:20260420T112239Z
URL:https://members.visitdeepcreek.com/events/details/the-studio-make-a-dough-bowl-candle-with-mel-s-candles-07-02-2022-37731
END:VEVENT

END:VCALENDAR
