BEGIN:VCALENDAR
VERSION:2.0
PRODID:-//ChamberMaster//Event Calendar 2.0//EN
METHOD:PUBLISH
X-PUBLISHED-TTL:P3D
REFRESH-INTERVAL:P3D
CALSCALE:GREGORIAN
BEGIN:VEVENT
DTSTART:20220730T110000Z
DTEND:20220730T130000Z
X-MICROSOFT-CDO-ALLDAYEVENT:FALSE
SUMMARY:The Studio - Lakescape Collage with Local Artist Jessica McClurg!
DESCRIPTION:Join us for a colorful adventure as we layer our way to a beautiful masterpiece with DCL's very own talented artist Jessica McClurg!\n\n \n\nJoin Jess as she demonstrates and helps you to layer colorful tissue papers in a creative collage technique. You'll create your own lake scape on canvas and take home memories of some fun down time at Deep Creek!\n\n \n\nClass Notes: You will be working with tissue papers and a glue/sealer. We provide the apron\, but wear easily washable clothing should you get craft supplies on you. This class is recommended for adults and children above 8 years old with adult supervision and assistance.\n\n \n\nAbout The Studio: Guests are welcome to bring snacks and drinks. Bottled water\, Western Maryland Lemonade and some snacks will be available for purchase. Guests are permitted to bring their own adult beverages. We encourage you to visit our neighbors for snacks and beverages. (Our sister store - A Mountain FIx\, Short Story Brewing Company\, Pine Lodge Steakhouse\, Black Bear Tavern and Deep Creek Funzone).\n\n \n\nThe Gallery at Marsh Hill Mercantile will be open during breaks for browsing and shopping our local artists!
X-ALT-DESC;FMTTYPE=text/html:<div><strong>Join us for a colorful adventure as we layer our way to a beautiful masterpiece with DCL&#39\;s very own talented artist Jessica McClurg!</strong><br />\n&nbsp\;</div>\n\n<div>Join Jess as she demonstrates and helps you to layer colorful tissue papers in a creative collage technique. You&#39\;ll create your own lake scape on canvas and take home memories of some fun down time at Deep Creek!<br />\n&nbsp\;</div>\n\n<div><strong>Class Notes:</strong> You will be working with tissue papers and a glue/sealer. We provide the apron\, but wear easily washable clothing should you get craft supplies on you. This class is recommended for adults and children above 8 years old with adult supervision and assistance.<br />\n&nbsp\;</div>\n\n<div><strong>About The Studio:</strong> Guests are welcome to bring snacks and drinks. Bottled water\, Western Maryland Lemonade and some snacks will be available for purchase. Guests are permitted to bring their own adult beverages. We encourage you to visit our neighbors for snacks and beverages. (Our sister store - A Mountain FIx\, Short Story Brewing Company\, Pine Lodge Steakhouse\, Black Bear Tavern and Deep Creek Funzone).<br />\n&nbsp\;</div>\n\n<div>The Gallery at Marsh Hill Mercantile will be open during breaks for browsing and shopping our local artists!</div>\n
LOCATION:1550-D Deep Creek Drive\, McHenry\, MD 21541
UID:e.847.37753
SEQUENCE:3
DTSTAMP:20260420T112336Z
URL:https://members.visitdeepcreek.com/events/details/the-studio-lakescape-collage-with-local-artist-jessica-mcclurg-37753
END:VEVENT

END:VCALENDAR
