BEGIN:VCALENDAR
VERSION:2.0
PRODID:-//ChamberMaster//Event Calendar 2.0//EN
METHOD:PUBLISH
X-PUBLISHED-TTL:P3D
REFRESH-INTERVAL:P3D
CALSCALE:GREGORIAN
BEGIN:VEVENT
DTSTART:20220723T150000Z
DTEND:20220724T090000Z
X-MICROSOFT-CDO-ALLDAYEVENT:FALSE
SUMMARY:The Garrett County Arts Council's "Artist Studio Tour"
DESCRIPTION:The Garrett County Arts Council showcases our county artists' working studios annually with our Artist Studio Tour. This year on July 23 & 24 from 11am-5pm\, residents and tourists are encouraged to travel the scenic byways of Garrett County to meet our local artists\, learn about their creative inspiration\, technical processes\, and the tools and materials they use to make their unique handcrafted work. \n\n\n\nFor more information about the participating artists and a map with QR codes for directions\, please visit www.garrettarts.org.
X-ALT-DESC;FMTTYPE=text/html:<span style="font-size:15px">The Garrett County Arts Council showcases our county artists&rsquo\; working studios annually with our Artist Studio Tour. This year on July 23 &amp\; 24 from 11am-5pm\, residents and tourists are encouraged to travel the scenic byways of Garrett County to meet our local artists\, learn about their creative inspiration\, technical processes\, and the tools and materials they use to make their unique handcrafted work. </span><br />\n<br />\n<span style="font-size:15px">For more information about the&nbsp\;</span><span style="font-size:15px">participating</span><span style="font-size:15px">&nbsp\;artists and a map with QR codes for directions\, please visit <a href="http://www.garrettarts.org">www.garrettarts.org.</a></span>
LOCATION:Garrett County\, MD
UID:e.847.37903
SEQUENCE:3
DTSTAMP:20260420T112335Z
URL:https://members.visitdeepcreek.com/events/details/the-garrett-county-arts-council-s-artist-studio-tour-37903
END:VEVENT

END:VCALENDAR
