BEGIN:VCALENDAR
VERSION:2.0
PRODID:-//ChamberMaster//Event Calendar 2.0//EN
METHOD:PUBLISH
X-PUBLISHED-TTL:P3D
REFRESH-INTERVAL:P3D
CALSCALE:GREGORIAN
BEGIN:VEVENT
DTSTART:20220210T000000Z
DTEND:20220210T020000Z
X-MICROSOFT-CDO-ALLDAYEVENT:FALSE
SUMMARY:Team Trivia at Shrimp on the Barbie
DESCRIPTION:Come out to Shrimp on the Barbie for a free and fun game of Team Trivia! Team Trivia allows you and any amount of players on your team to compete and test your knowledge for some prizes. It's a six round game of trivia broken up by a halftime and final question for a total of twenty questions. Answer questions and wager points to determine if you could be the first\, second or third prize winner. The questions are general knowledge questions that are drawn from categories such as history\, pop culture\, science\, entertainment and so much more. If you listen to the radio\, watch TV or just plain walk out the door\, you're qualified to play! Team Trivia is free to play\, so there is no reason not to come down and have some fun with us
X-ALT-DESC;FMTTYPE=text/html:<span style="font-family:times new roman\; font-size:14px">Come out to Shrimp on the Barbie for a free and fun game of Team Trivia! Team Trivia allows you and any amount of players on your team to compete and test your knowledge for some prizes. It&#39\;s a six round game of trivia broken up by a halftime and final question for a total of twenty questions. Answer questions and wager points to determine if you could be the first\, second or third prize winner. The questions are general knowledge questions that are drawn from categories such as history\, pop culture\, science\, entertainment and so much more. If you listen to the radio\, watch TV or just plain walk out the door\, you&#39\;re qualified to play! Team Trivia is free to play\, so there is no reason not to come down and have some fun with us</span>
LOCATION:433 N Bradley Ln\, Oakland\, MD 21550
UID:e.847.36753
SEQUENCE:3
DTSTAMP:20260420T202614Z
URL:https://members.visitdeepcreek.com/events/details/team-trivia-at-shrimp-on-the-barbie-36753
END:VEVENT

END:VCALENDAR
