BEGIN:VCALENDAR
VERSION:2.0
PRODID:-//ChamberMaster//Event Calendar 2.0//EN
METHOD:PUBLISH
X-PUBLISHED-TTL:P3D
REFRESH-INTERVAL:P3D
CALSCALE:GREGORIAN
BEGIN:VEVENT
DTSTART:20220814T160000Z
DTEND:20220814T190000Z
X-MICROSOFT-CDO-ALLDAYEVENT:FALSE
SUMMARY:Taylor Hill at Firewater Kitchen & Bar
DESCRIPTION:Join us on the patio Sunday\, August 14th for our Sunday Summer Music Series featuring live music by Taylor Hill. Enjoy lunch and cocktails overlooking the best view of Deep Creek Lake.\n\n**Please see the host for outdoor seating.**\n\nMore about Taylor Hill...\n\nTaylor Hill is a West Virginia native living in the small town of Rawlings\, MD who loves nothing more than to play all kinds of music. If you're looking for a wide selection of oldies\, pop\, rock\, or everything in between\, Taylor is the performer for you.
X-ALT-DESC;FMTTYPE=text/html:<div>Join us on the patio Sunday\, August 14th for our Sunday Summer Music Series featuring live music by Taylor Hill. Enjoy lunch and cocktails overlooking the best view of Deep Creek Lake.</div>\n\n<div>**Please see the host for outdoor seating.**</div>\n\n<div>More about Taylor Hill...</div>\n\n<div>Taylor Hill is a West Virginia native living in the small town of Rawlings\, MD who loves nothing more than to play all kinds of music. If you&#39\;re looking for a wide selection of oldies\, pop\, rock\, or everything in between\, Taylor is the performer for you.</div>\n
LOCATION:Firewater Kitchen & Bar 20128 Garrett Highway Oakland\, Maryland 21550
UID:e.847.37820
SEQUENCE:3
DTSTAMP:20260420T110237Z
URL:https://members.visitdeepcreek.com/events/details/taylor-hill-at-firewater-kitchen-bar-37820
END:VEVENT

END:VCALENDAR
