BEGIN:VCALENDAR
VERSION:2.0
PRODID:-//ChamberMaster//Event Calendar 2.0//EN
METHOD:PUBLISH
X-PUBLISHED-TTL:P3D
REFRESH-INTERVAL:P3D
CALSCALE:GREGORIAN
BEGIN:VEVENT
DTSTART:20220725T150000Z
DTEND:20220728T180000Z
X-MICROSOFT-CDO-ALLDAYEVENT:FALSE
SUMMARY:Super Structures STEM Camp
DESCRIPTION:Students will explore\, build\, and test the seven basic bridge types in the world today\, learning concepts fit for a structural engineer or architect. For students entering grades 3-6.
X-ALT-DESC;FMTTYPE=text/html:Students will explore\, build\, and test the seven basic bridge types in the world today\, learning concepts fit for a structural engineer or architect. For students entering grades 3-6.
LOCATION:Sylvan of Garrett County 23789 Garrett Hwy\, Suite 3 McHenry\, MD 21541
UID:e.847.37232
SEQUENCE:3
DTSTAMP:20260420T110036Z
URL:https://members.visitdeepcreek.com/events/details/super-structures-stem-camp-37232
END:VEVENT

END:VCALENDAR
