BEGIN:VCALENDAR
VERSION:2.0
PRODID:-//ChamberMaster//Event Calendar 2.0//EN
METHOD:PUBLISH
X-PUBLISHED-TTL:P3D
REFRESH-INTERVAL:P3D
CALSCALE:GREGORIAN
BEGIN:VEVENT
DTSTART:20210612T160000Z
DTEND:20210613T020000Z
X-MICROSOFT-CDO-ALLDAYEVENT:FALSE
SUMMARY:Summer Kick-off Celebration at Sipside this Saturday
DESCRIPTION:This Saturday Sipside will be participating in Oakland's Kick-off to Summer celebration with its participation in the Beer Walk as well as live music on our 100-seat outdoor Fireside Patio throughout the day and evening. We will have a local food truck on site to provide scrumptious cooked to order plates to accompany our premium beers\, wines and spirits options. Local groups Pickin Empty Pockets (1:30 - 4:30) and the Youghiogheny Blues Band (6-9P) will be live.
X-ALT-DESC;FMTTYPE=text/html:This Saturday Sipside will be participating in Oakland&rsquo\;s Kick-off to Summer celebration with its participation in the Beer Walk as well as live music on our 100-seat outdoor Fireside Patio throughout the day and evening. We will have a local food truck on site to provide scrumptious cooked to order plates to accompany our premium beers\, wines and spirits options. Local groups Pickin Empty Pockets (1:30 - 4:30) and the Youghiogheny Blues Band (6-9P) will be live.
LOCATION:119 So. 2nd St. Oakland\, MD 21550
UID:e.847.35924
SEQUENCE:3
DTSTAMP:20260421T081458Z
URL:https://members.visitdeepcreek.com/events/details/summer-kick-off-celebration-at-sipside-this-saturday-35924
END:VEVENT

END:VCALENDAR
