BEGIN:VCALENDAR
VERSION:2.0
PRODID:-//ChamberMaster//Event Calendar 2.0//EN
METHOD:PUBLISH
X-PUBLISHED-TTL:P3D
REFRESH-INTERVAL:P3D
CALSCALE:GREGORIAN
BEGIN:VEVENT
DTSTART:20220319T200000Z
DTEND:20220320T020000Z
X-MICROSOFT-CDO-ALLDAYEVENT:FALSE
SUMMARY:St. Patrick's Day Dinner & Celebration
DESCRIPTION:St. Patrick's Day 2022 Dinner & Celebration!\n\nSaturday\, March 19th in the Evergreene Dining Room starting at 4pm! No cover!\n\n\n\nMenu Specials:\n\n--Green Beer\n\n--Bangers and Mash $12\n\n--Our take on Shepherd's Pie $9\n\n--Corned Beef and Cabbage $14\n\n\n\n????????\n\nLive Entertainment by TYLER BOYCE\n\n6pm - 9pm\n\n????????\n\n\n\nWear green and be ready to party with the crew at Alpine Lake Resort!\n\n\n\n**Out-of-County Event**
X-ALT-DESC;FMTTYPE=text/html:St. Patrick&#39\;s Day 2022 Dinner &amp\; Celebration!<br />\nSaturday\, March 19th in the Evergreene Dining Room starting at 4pm! No cover!<br />\n<br />\nMenu Specials:<br />\n--Green Beer<br />\n--Bangers and Mash $12<br />\n--Our take on Shepherd&#39\;s Pie $9<br />\n--Corned Beef and Cabbage $14<br />\n<br />\n????????<br />\nLive Entertainment by TYLER BOYCE<br />\n6pm - 9pm<br />\n????????<br />\n<br />\nWear green and be ready to party with the crew at Alpine Lake Resort!<br />\n<br />\n<strong><span style="color:#FF0000\;">**Out-of-County Event**</span></strong>
LOCATION:Alpine Lake Resort\\ 700 W Alpine Drive Terra Alta\, WV 26764
UID:e.847.36802
SEQUENCE:3
DTSTAMP:20260420T171947Z
URL:https://members.visitdeepcreek.com/events/details/st-patrick-s-day-dinner-celebration-36802
END:VEVENT

END:VCALENDAR
