BEGIN:VCALENDAR
VERSION:2.0
PRODID:-//ChamberMaster//Event Calendar 2.0//EN
METHOD:PUBLISH
X-PUBLISHED-TTL:P3D
REFRESH-INTERVAL:P3D
CALSCALE:GREGORIAN
BEGIN:VEVENT
DTSTART:20220709T120000Z
DTEND:20220709T170000Z
X-MICROSOFT-CDO-ALLDAYEVENT:FALSE
SUMMARY:Springs Farmers Market
DESCRIPTION:Springs Farmers' Market   Saturday mornings -  May 28 - Sept. 24\, 2022 - 8:00 am - 1:00 pm  Local Amish produce\, flowers\, crafts\, large flea market. 1711 Springs Rd.\, Springs\, PA 15562 - www.springspa.org Facebook or 240-310-2086.  Voted "Best of Somerset Co."\n\n\n\n**Out-of-County Regional Event**
X-ALT-DESC;FMTTYPE=text/html:Springs Farmers&#39\; Market &ndash\; Saturday mornings - &nbsp\;May 28 - Sept. 24\, 2022 - 8:00 am - 1:00 pm&nbsp\; Local Amish produce\, flowers\, crafts\, large flea market. 1711 Springs Rd.\, Springs\, PA 15562 - www.springspa.org Facebook or 240-310-2086.&nbsp\; Voted &quot\;Best of Somerset Co.&quot\;<br />\n<br />\n<strong>**Out-of-County Regional Event**</strong><br />\n&nbsp\;
LOCATION:1711 Springs Rd.\, Springs\, PA 15562
UID:e.847.37109
SEQUENCE:3
DTSTAMP:20260420T112238Z
URL:https://members.visitdeepcreek.com/events/details/springs-farmers-market-07-09-2022-37109
END:VEVENT

END:VCALENDAR
