BEGIN:VCALENDAR
VERSION:2.0
PRODID:-//ChamberMaster//Event Calendar 2.0//EN
METHOD:PUBLISH
X-PUBLISHED-TTL:P3D
REFRESH-INTERVAL:P3D
CALSCALE:GREGORIAN
BEGIN:VEVENT
DTSTART:20210606T170000Z
DTEND:20210606T200000Z
X-MICROSOFT-CDO-ALLDAYEVENT:FALSE
SUMMARY:SPRING GARDENING OPEN HOUSE!
DESCRIPTION:What:  Fun Activities for Everyone!\n\n\n\n  *   Garden Plants and Kits for Sale\n\n  *   FREE GARDEN KITS FOR QUALIFYING       \n\n       FAMILIES!\n\n  *   Cooking demonstrations and tastings in the\n\n       new outdoor Appalachian Kitchen\n\n  *   Live Appalachian music performed by a local\n\n       musician\n\n  *   Handmade items and other gifts for sale\n\n  *   Tours of the newly renovated Evergreen\n\n       Farmhouse\, Evergreen Barn and Agricultural\n\n       Museum\, and the Evergreen gardens\n\n  *   Make-and-Take activities for kids -\n\n       Appalachian Traditions pickling and weaving\n\n\n\nWe look forward to seeing you there.
X-ALT-DESC;FMTTYPE=text/html:<strong>What:&nbsp\; Fun Activities for Everyone!</strong><br />\n<br />\n&nbsp\; *&nbsp\; &nbsp\;Garden Plants and Kits for Sale<br />\n&nbsp\; *&nbsp\; &nbsp\;FREE GARDEN KITS FOR QUALIFYING&nbsp\; &nbsp\; &nbsp\; &nbsp\;<br />\n&nbsp\; &nbsp\; &nbsp\; &nbsp\;FAMILIES!<br />\n&nbsp\; *&nbsp\; &nbsp\;Cooking demonstrations and tastings in the<br />\n&nbsp\; &nbsp\; &nbsp\; &nbsp\;new outdoor Appalachian Kitchen<br />\n&nbsp\; *&nbsp\; &nbsp\;Live Appalachian music performed by a local<br />\n&nbsp\; &nbsp\; &nbsp\; &nbsp\;musician<br />\n&nbsp\; *&nbsp\; &nbsp\;Handmade items and other gifts for sale<br />\n&nbsp\; *&nbsp\; &nbsp\;Tours of the newly renovated Evergreen<br />\n&nbsp\; &nbsp\; &nbsp\; &nbsp\;Farmhouse\, Evergreen Barn and Agricultural<br />\n&nbsp\; &nbsp\; &nbsp\; &nbsp\;Museum\, and the Evergreen gardens<br />\n&nbsp\; *&nbsp\; &nbsp\;Make-and-Take activities for kids -<br />\n&nbsp\; &nbsp\; &nbsp\; &nbsp\;Appalachian Traditions pickling and weaving<br />\n<br />\nWe look forward to seeing you there.
LOCATION:Evergreen Heritage Center 15603 Trimble Road NW Mount Savage\, MD 21545
UID:e.847.35066
SEQUENCE:3
DTSTAMP:20260421T093718Z
URL:https://members.visitdeepcreek.com/events/details/spring-gardening-open-house-35066
END:VEVENT

END:VCALENDAR
