BEGIN:VCALENDAR
VERSION:2.0
PRODID:-//ChamberMaster//Event Calendar 2.0//EN
METHOD:PUBLISH
X-PUBLISHED-TTL:P3D
REFRESH-INTERVAL:P3D
CALSCALE:GREGORIAN
BEGIN:VEVENT
DTSTART;VALUE=DATE:20211127
DTEND;VALUE=DATE:20211128
TRANSP:TRANSPARENT
X-MICROSOFT-CDO-ALLDAYEVENT:TRUE
SUMMARY:Small Business Saturday - Keep the Cheer Here!
DESCRIPTION:Saturday\, November 27 is officially Small Business Saturday in the United States. In 2019 American consumers spent $19.6 billion at independent retailers and restaurants on Small Business Saturday\, according to data released from the Small Business Saturday Consumer Insights Survey. This Small Business Saturday we encourage you to Shop Local! A number of our Chamber members are offering special deals\, discounts\, and giveaways for shoppers who decide to spend their money in our great little community. \n\n\n\nFor a complete list of participating members and the deals\, discounts\, and prizes they're offering for Small Business Saturday 2021 click HERE\n\n\n\nAccording to Civil Economics: Andersonville Study of Retail Economics   for every $100 you spend at locally owned businesses\, $68 will stay in the community. There are plenty of reasons to shop local:\n\n\n\n  You create local jobs\n\n  You invest in and reward entrepreneurship\n\n  You build relationships with your neighbors \n\n  Sales taxes collected from your purchases stay in the community\n\n  You minimize economic impact by consuming less fuel and packaging\n\n\n\nThe money you spend at local businesses has a BIG impact. Everyone benefits from your neighbors who own and operate local businesses to the municipalities who maintain your roads and fund the school system. Everyone benefits\, including you! When you shop local you help create a healthier economy and a happier community.
X-ALT-DESC;FMTTYPE=text/html:Saturday\, November 27 is officially Small Business Saturday in the United States. In 2019 American consumers spent $19.6 billion at independent retailers and restaurants on Small Business Saturday\, according to data released from the Small Business Saturday Consumer Insights Survey. This Small Business Saturday we encourage you to Shop Local! A number of our Chamber members are offering special deals\, discounts\, and giveaways for shoppers who decide to spend their money in our great little community.&nbsp\;<br />\n<br />\nFor a complete list of participating members and the deals\, discounts\, and prizes they&#39\;re offering for Small Business Saturday 2021 click <a href="https://chambermaster.blob.core.windows.net/userfiles/UserFiles/chambers/847/CMS/SmallBizSat/Keep-the-Cheer-Here---Shop-Local-2021-v2(2).pdf">HERE</a><br />\n<br />\nAccording to Civil Economics: Andersonville Study of Retail Economics &ndash\; for every $100 you spend at locally owned businesses\, $68 will stay in the community. There are plenty of reasons to shop local:<br />\n<br />\n&bull\; You create local jobs<br />\n&bull\; You invest in and reward entrepreneurship<br />\n&bull\; You build relationships with your neighbors&nbsp\;<br />\n&bull\; Sales taxes collected from your purchases stay in the community<br />\n&bull\; You minimize economic impact by consuming less fuel and packaging<br />\n<br />\nThe money you spend at local businesses has a BIG impact. Everyone benefits&mdash\;from your neighbors who own and operate local businesses to the municipalities who maintain your roads and fund the school system. Everyone benefits\, including you! When you shop local you help create a healthier economy and a happier community.
LOCATION:Members participating in our Shop Local promotion can be found all over Garrett County. For a complete list of participating members and the deals\, discounts\, and prizes they're offering for Small Business Saturday click HERE Alpaca Acres Farm and Fiber Backbone Hemp\, LLC Bear Creek Traders Busy Bee Flea Market Christmas Chalet CurlyRed\, Inc. Deep Creek Lavender Farm Deep Creek Pottery Diehl's Ford Sales Garrett Lakes Arts Festival Glotfelty Enterprises\, Inc. Hill Top Fruit Market/Home of Candyland Horizon Goodwill Industries Little Crossings Pantry Mead\, Julie - Railey Realty Nature's Granite\, LLC NeuBeam Internet Rudy's Clothing Savage River Lodge Smoke N Mirrors Photography Somerset Trust The Cornucopia Caf The Lodge at Wisp The Rooster's Nest Wisp Resort
UID:e.847.36680
SEQUENCE:3
DTSTAMP:20260420T234634Z
URL:https://members.visitdeepcreek.com/events/details/small-business-saturday-keep-the-cheer-here-36680
END:VEVENT

END:VCALENDAR
