BEGIN:VCALENDAR
VERSION:2.0
PRODID:-//ChamberMaster//Event Calendar 2.0//EN
METHOD:PUBLISH
X-PUBLISHED-TTL:P3D
REFRESH-INTERVAL:P3D
CALSCALE:GREGORIAN
BEGIN:VEVENT
DTSTART:20210507T200000Z
DTEND:20210508T020000Z
X-MICROSOFT-CDO-ALLDAYEVENT:FALSE
SUMMARY:Sipside Grand Reopening
DESCRIPTION:Sipside Lounge\, located in historic downtown Oakland is reopening this weekend after shutting its doors due to the pandemic. We will be reopening our doors starting at 4:00 on Friday May 7. We will then resume normal hours: Tues. thru Fridays 4-10\; Saturdays 1-10. Enjoy our new "Fireside Patio" where there is ample\, comfortable outdoor seating. We will have live music with local band Pickin' Empty Pockets on Friday and Friendsville's Beyond Primitive on Saturday. Live entertainment runs from 6-9P ($5 p.p. cover). Enjoy local and regional brews\, over two dozen exquisite wines by the glass and traditional spirits served up by some the area's finest. Charcuterie boards are available\, food trucks (weather permitting) and a QPR code order away from Vagabond Taproom who will deliver to your table. Get hip at The Sip.
X-ALT-DESC;FMTTYPE=text/html:Sipside Lounge\, located in historic downtown Oakland is reopening this weekend after shutting its doors due to the pandemic. We will be reopening our doors starting at 4:00 on Friday May 7. We will then resume normal hours: Tues. thru Fridays 4-10\; Saturdays 1-10. Enjoy our new &ldquo\;Fireside Patio&rdquo\; where there is ample\, comfortable outdoor seating. We will have live music with local band Pickin&rsquo\; Empty Pockets on Friday and Friendsville&rsquo\;s Beyond Primitive on Saturday. Live entertainment runs from 6-9P ($5 p.p. cover). Enjoy local and regional brews\, over two dozen exquisite wines by the glass and traditional spirits served up by some the area&rsquo\;s finest. Charcuterie boards are available\, food trucks (weather permitting) and a QPR code order away from Vagabond Taproom who will deliver to your table. Get hip at The Sip.
LOCATION:119 So. 2nd. St. Oakland\, MD 21550
UID:e.847.34450
SEQUENCE:3
DTSTAMP:20260421T111338Z
URL:https://members.visitdeepcreek.com/events/details/sipside-grand-reopening-34450
END:VEVENT

END:VCALENDAR
