BEGIN:VCALENDAR
VERSION:2.0
PRODID:-//ChamberMaster//Event Calendar 2.0//EN
METHOD:PUBLISH
X-PUBLISHED-TTL:P3D
REFRESH-INTERVAL:P3D
CALSCALE:GREGORIAN
BEGIN:VEVENT
DTSTART:20220908T213000Z
DTEND:20220908T233000Z
X-MICROSOFT-CDO-ALLDAYEVENT:FALSE
SUMMARY:September Business After Hours 2022
DESCRIPTION:The Chamber is pleased to announce that The Garrett County Government will be hosting our September Business After Hours at the Courthouse on the patio to kick off the 150th Celebration of Garrett County on Thursday\, September 8th from 5:30 pm- 7:30 pm. Enter at the Main Entrance on Alder Street. \n\n \nThe 150th Anniversary Committee has been working with each of the eight Garrett County  municipalities to showcase our beautiful area as it was "then" (in 1872) and "now" (in 2022).\n\nWe will celebrate our rich county heritage throughout all of 2022 at each of the municipalities' annual celebrations. There will also be a special community celebration event at the Garrett County Fairgrounds planned for September 2022.\n\nOfficial partners include Garrett County Government\, Garrett Lakes Arts Festival\, Ruth Enlow Library System\, Garrett County Historical Society and the Mountain Maryland Gateway to the West Heritage Area.\n\n\n\nEnjoy delicious food and drinks as you mingle with fellow Chamber members and Chamber staff at our monthly networking events. Don't forget your business card to enter to win prizes.
X-ALT-DESC;FMTTYPE=text/html:<span background-color:="" font-size:="" style="" trebuchet=""><font face="arial"><span style="font-size: 14px\;">The Chamber is pleased to announce that The Garrett County Government will be hosting our September Business After Hours at the Courthouse on the patio to kick off the 150th Celebration of Garrett County on Thursday\, September 8th from 5:30 pm- 7:30 pm. <strong>Enter at the Main Entrance&nbsp\;on Alder Street.&nbsp\;</strong></span></font></span><br />\n&nbsp\;\n<p style="box-sizing: border-box\; margin: 0px\; padding: 0px 0px 1em\; border: 0px\; outline: 0px\; font-size: 18px\; text-size-adjust: 100%\; vertical-align: baseline\; background: rgb(255\, 255\, 255)\; overflow-wrap: break-word\; color: rgb(15\, 13\, 13)\; font-family: Lato\, Helvetica\, Arial\, Lucida\, sans-serif\;"><span style="font-size:14px\;"><span style="font-family:arial\;">The 150th Anniversary Committee has been working with each of the eight Garrett County&nbsp\; municipalities to showcase our beautiful area as it was &ldquo\;then&rdquo\; (in 1872) and &ldquo\;now&rdquo\; (in 2022).</span></span></p>\n\n<p style="box-sizing: border-box\; margin: 0px\; padding: 0px 0px 1em\; border: 0px\; outline: 0px\; font-size: 18px\; text-size-adjust: 100%\; vertical-align: baseline\; background: rgb(255\, 255\, 255)\; overflow-wrap: break-word\; color: rgb(15\, 13\, 13)\; font-family: Lato\, Helvetica\, Arial\, Lucida\, sans-serif\;"><span style="font-size:14px\;"><span style="font-family:arial\;">We will celebrate our rich county heritage throughout all of 2022 at each of the municipalities&rsquo\; annual celebrations. There will also be a special community celebration event at the Garrett County Fairgrounds planned for September 2022.</span></span></p>\n\n<p style="box-sizing: border-box\; margin: 0px\; padding: 0px 0px 1em\; border: 0px\; outline: 0px\; font-size: 18px\; text-size-adjust: 100%\; vertical-align: baseline\; background: rgb(255\, 255\, 255)\; overflow-wrap: break-word\; color: rgb(15\, 13\, 13)\; font-family: Lato\, Helvetica\, Arial\, Lucida\, sans-serif\;"><span style="font-size:14px\;"><span style="font-family:arial\;">Official partners include Garrett County Government\, Garrett Lakes Arts Festival\, Ruth Enlow Library System\, Garrett County Historical Society and the Mountain Maryland Gateway to the West Heritage Area.<br />\n<br />\n<span style="background-color: rgb(255\, 255\, 255)\;">Enjoy delicious food and drinks as you mingle with fellow Chamber members and Chamber staff at our monthly networking events. Don&#39\;t forget your business card to enter to win prizes.</span></span></span></p>\n
LOCATION:Garrett County Courthouse 317 E Alder Street Oakland\, MD 21550
UID:e.847.37917
SEQUENCE:3
DTSTAMP:20260420T093013Z
URL:https://members.visitdeepcreek.com/events/details/september-business-after-hours-2022-37917
END:VEVENT

END:VCALENDAR
