BEGIN:VCALENDAR
VERSION:2.0
PRODID:-//ChamberMaster//Event Calendar 2.0//EN
METHOD:PUBLISH
X-PUBLISHED-TTL:P3D
REFRESH-INTERVAL:P3D
CALSCALE:GREGORIAN
BEGIN:VEVENT
DTSTART:20210909T213000Z
DTEND:20210909T233000Z
X-MICROSOFT-CDO-ALLDAYEVENT:FALSE
SUMMARY:September Business After Hours 2021
DESCRIPTION:The Chamber is pleased to announce that The Merchants at The Fort will be hosting our September Business After Hours on Thursday\, September 9\, from 5:30 pm- 7:30 pm.\n\n\n\nThe businesses hosting are:\n\nCashmere Clothing Co - A ladies boutique offering sophisticated fashion in sizes S through 3X.\n\nCo-hosted by:\n\nSolnet - A small business with 19 years of experience specializing in websites\, online marketing\, custom database creation and network security.\n\nShort Story Brewing - A taproom serving Short Story's unabridged collection of craft beer with views of Deep Creek Lake and Wisp Resort.\n\nA Mountain Fix - The lake's most unique collection of sterling silver jewelry & finely curated gifts.\n\nO.M.G. Relax - A "fully clothed" and "touchless" massage in a medical breakthrough massage chair designed and backed by doctors and chiropractors. \n\n\n\nEnjoy delicious food and drinks as you mingle with fellow Chamber members and Chamber staff at our monthly networking events. Don't forget your business card to enter to win prizes.
X-ALT-DESC;FMTTYPE=text/html:<span style="font-family:arial\;">The Chamber is pleased to announce that The Merchants at The Fort will be hosting our September Business After Hours on Thursday\, September 9\,&nbsp\;from 5:30 pm- 7:30 pm.<br />\n<br />\nThe businesses hosting are:</span><br />\n<span style="font-family:arial\,sans-serif\;"><strong>Cashmere Clothing Co</strong> - A ladies boutique offering sophisticated fashion in sizes S through 3X.</span><br />\n<span style="font-family:arial\,sans-serif\;">Co-hosted by:</span><br />\n<strong><span style="font-family:arial\,sans-serif\;">Solnet </span></strong><span style="font-family:arial\,sans-serif\;">- A small business with 19 years of experience specializing in websites\, online marketing\, custom database creation and network security.</span><br />\n<strong><span style="font-family:arial\,sans-serif\;">Short Story Brewing</span></strong><span style="font-family:arial\,sans-serif\;"> - </span>A taproom serving Short Story&#39\;s unabridged collection of craft beer with views of Deep Creek Lake and Wisp Resort.<br />\n<strong><span style="font-family:arial\,sans-serif\;">A Mountain Fix</span></strong><span style="font-family:arial\,sans-serif\;"> - The lake&#39\;s most unique collection of sterling silver jewelry &amp\; finely curated gifts.</span><br />\n<strong><span style="font-family:arial\,sans-serif\;">O.M.G. Relax </span></strong><span style="font-family:arial\,sans-serif\;">- A &ldquo\;fully clothed&rdquo\; and &ldquo\;touchless&rdquo\; massage in a medical breakthrough massage chair designed and backed by doctors and chiropractors.&nbsp\;</span><br />\n<br font-size:="" trebuchet="" />\n<span style="font-family:arial\;">Enjoy delicious food and drinks as you mingle with fellow Chamber members and Chamber staff at our monthly networking events. Don&#39\;t forget your business card to enter to win prizes.</span>
LOCATION:The Merchants at The Fort 1550 Deep Creek Drive McHenry\, MD 21541
UID:e.847.36632
SEQUENCE:3
DTSTAMP:20260421T030749Z
URL:https://members.visitdeepcreek.com/events/details/september-business-after-hours-2021-36632
END:VEVENT

END:VCALENDAR
