BEGIN:VCALENDAR
VERSION:2.0
PRODID:-//ChamberMaster//Event Calendar 2.0//EN
METHOD:PUBLISH
X-PUBLISHED-TTL:P3D
REFRESH-INTERVAL:P3D
CALSCALE:GREGORIAN
BEGIN:VEVENT
DTSTART:20220711T160000Z
DTEND:20220711T170000Z
X-MICROSOFT-CDO-ALLDAYEVENT:FALSE
SUMMARY:Ribbon Cutting In celebration of Garrett Regional Medical Center’s official full partnership with WVU Medicine
DESCRIPTION:A special ribbon cutting ceremony in celebration of Garrett Regional Medical Center's official full partnership with WVU Medicine\, featuring officials from WVU. \n\n\n\nMasks are required inside the hospital.
X-ALT-DESC;FMTTYPE=text/html:A special ribbon cutting ceremony in celebration of Garrett Regional Medical Center&rsquo\;s official full partnership with WVU Medicine\, featuring officials from WVU.&nbsp\;<br />\n<br />\n<span style="color:#FF0000\;"><strong>Masks are required inside the hospital.</strong></span>
LOCATION:Garrett Regional Medical Center Main Lobby 251 North Fourth Street Oakland\, MD 21550
UID:e.847.37733
SEQUENCE:3
DTSTAMP:20260420T112821Z
URL:https://members.visitdeepcreek.com/events/details/ribbon-cutting-in-celebration-of-garrett-regional-medical-center-s-official-full-partnership-with-wvu-medicine-37733
END:VEVENT

END:VCALENDAR
