BEGIN:VCALENDAR
VERSION:2.0
PRODID:-//ChamberMaster//Event Calendar 2.0//EN
METHOD:PUBLISH
X-PUBLISHED-TTL:P3D
REFRESH-INTERVAL:P3D
CALSCALE:GREGORIAN
BEGIN:VEVENT
DTSTART:20210709T180000Z
DTEND:20210709T210000Z
X-MICROSOFT-CDO-ALLDAYEVENT:FALSE
SUMMARY:Ribbon Cutting & GRAND OPENING at FIT w/ Jen\, FITNESS STUDIO
DESCRIPTION:Come celebrate the opening of FIT With Jen\, LLC\, a GROUP FITNESS & PERSONAL TRAINING STUDIO. Free FWJ water bottle to the first 50 guests. All guests are entered in a raffle for various prizes from local businesses to FREE CLASSES & PERSONAL TRAINING at the studio!\n\nStop by Fit with Jen Studio this Friday anytime from 2-5 pm to check out where all the FITNESS FUN happens!
X-ALT-DESC;FMTTYPE=text/html:Come celebrate the opening of FIT With Jen\, LLC\, a GROUP FITNESS &amp\; PERSONAL TRAINING STUDIO. Free FWJ water bottle to the first 50 guests. All guests are entered in a raffle for various prizes from local businesses to FREE CLASSES &amp\; PERSONAL TRAINING at the studio!<br />\nStop by Fit with Jen Studio this Friday anytime from 2-5 pm to check out where all the FITNESS FUN happens!
LOCATION:DRY DOCK PLAZA 19509 Garrett Hwy Oakland MD 21550 (next door to McDonalds and Casselman Cafe)
UID:e.847.36577
SEQUENCE:3
DTSTAMP:20260421T065603Z
URL:https://members.visitdeepcreek.com/events/details/ribbon-cutting-grand-opening-at-fit-w-jen-fitness-studio-36577
END:VEVENT

END:VCALENDAR
