BEGIN:VCALENDAR
VERSION:2.0
PRODID:-//ChamberMaster//Event Calendar 2.0//EN
METHOD:PUBLISH
X-PUBLISHED-TTL:P3D
REFRESH-INTERVAL:P3D
CALSCALE:GREGORIAN
BEGIN:VEVENT
DTSTART:20211118T190000Z
DTEND:20211118T200000Z
X-MICROSOFT-CDO-ALLDAYEVENT:FALSE
SUMMARY:Ribbon Cutting Ceremony: Sylvan Learning of Garrett County
DESCRIPTION:The Garrett County Chamber of Commerce is holding a ribbon cutting ceremony to celebrate the grand opening of Sylvan Learning of Garrett County! The public is invited to attend and hear remarks from local dignitaries\, learn about the business from the owners\, participate in the official ribbon cutting ceremony\, and help welcome Sylvan Learning into the community. Light refreshments will be provided for attendees.
X-ALT-DESC;FMTTYPE=text/html:The Garrett County Chamber of Commerce is holding a ribbon cutting ceremony to celebrate the grand opening of Sylvan Learning of Garrett County! The public is invited to attend and hear remarks from local dignitaries\, learn about the business from the owners\, participate in the official ribbon cutting ceremony\, and help welcome Sylvan Learning into the community. Light refreshments will be provided for attendees.&nbsp\;
LOCATION:Sylvan Learning of Garrett County 23789 Garrett Highway Suite 3 McHenry\, MD 21541
UID:e.847.36671
SEQUENCE:3
DTSTAMP:20260420T234857Z
URL:https://members.visitdeepcreek.com/events/details/ribbon-cutting-ceremony-sylvan-learning-of-garrett-county-36671
END:VEVENT

END:VCALENDAR
