BEGIN:VCALENDAR
VERSION:2.0
PRODID:-//ChamberMaster//Event Calendar 2.0//EN
METHOD:PUBLISH
X-PUBLISHED-TTL:P3D
REFRESH-INTERVAL:P3D
CALSCALE:GREGORIAN
BEGIN:VEVENT
DTSTART:20220310T220000Z
DTEND:20220310T223000Z
X-MICROSOFT-CDO-ALLDAYEVENT:FALSE
SUMMARY:Ribbon Cutting Ceremony: Garrett County Community Action's Training & Technology Center
DESCRIPTION:The Garrett County Chamber of Commerce is holding a ribbon cutting ceremony to celebrate the grand opening of Garrett County Community Action's Training & Technology Center on Thursday\, March 10 at 5 pm! The public is invited to attend and hear remarks from local dignitaries\, learn about the facilities\, participate in the official ribbon cutting ceremony\, and help congratulate Garrett County Community Action on this newest addition.\n\n\n\nStay after the ceremony and attend the Garrett County Chamber of Commerce's March Business After Hours from 5:30 to 7:30 pm! Click here for additional information and to register to attend.
X-ALT-DESC;FMTTYPE=text/html:The Garrett County Chamber of Commerce is holding a ribbon cutting ceremony to celebrate the grand opening of Garrett County Community Action&#39\;s Training &amp\; Technology Center on Thursday\, March 10 at 5 pm! The public is invited to attend and hear remarks from local dignitaries\, learn about the facilities\, participate in the official ribbon cutting ceremony\, and help congratulate Garrett County Community Action on this newest addition.<br />\n<br />\nStay after the ceremony and attend the Garrett County Chamber of Commerce&#39\;s March Business After Hours from 5:30 to 7:30 pm! <a href="https://www.visitdeepcreek.com/events/details/march-business-after-hours-2022-36750">Click here</a> for additional information and to register to attend.&nbsp\;
LOCATION:Training & Technology Center 6500 Thayer Center\, Suite 1 Oakland\, MD 21550
UID:e.847.36785
SEQUENCE:3
DTSTAMP:20260420T184555Z
URL:https://members.visitdeepcreek.com/events/details/ribbon-cutting-ceremony-garrett-county-community-action-s-training-technology-center-36785
END:VEVENT

END:VCALENDAR
