BEGIN:VCALENDAR
VERSION:2.0
PRODID:-//ChamberMaster//Event Calendar 2.0//EN
METHOD:PUBLISH
X-PUBLISHED-TTL:P3D
REFRESH-INTERVAL:P3D
CALSCALE:GREGORIAN
BEGIN:VEVENT
DTSTART:20220710T170000Z
DTEND:20220710T200000Z
X-MICROSOFT-CDO-ALLDAYEVENT:FALSE
SUMMARY:Queen City Funk & Soul at Firewater Kitchen & Bar
DESCRIPTION:Join us on the patio Sunday\, July 10th at 1pm featuring live music by Queen City Funk and Soul. Enjoy lunch and cocktails overlooking the best view of Deep Creek Lake.\n\n**Please see the host for outdoor seating.**\n\nAn 11-piece band from the heart of Appalachia! From Rock\, Jazz and Funk they're pros on every level! Come ready to boogie!
X-ALT-DESC;FMTTYPE=text/html:<div>Join us on the patio Sunday\, July 10th at 1pm featuring live music by Queen City Funk and Soul. Enjoy lunch and cocktails overlooking the best view of Deep Creek Lake.</div>\n\n<div>**Please see the host for outdoor seating.**</div>\n\n<div>An 11-piece band from the heart of Appalachia! From Rock\, Jazz and Funk they&rsquo\;re pros on every level! Come ready to boogie!</div>\n
LOCATION:Firewater Kitchen & Bar 20128 Garrett Highway Oakland\, Maryland 21550
UID:e.847.37816
SEQUENCE:3
DTSTAMP:20260420T125136Z
URL:https://members.visitdeepcreek.com/events/details/queen-city-funk-soul-at-firewater-kitchen-bar-37816
END:VEVENT

END:VCALENDAR
