BEGIN:VCALENDAR
VERSION:2.0
PRODID:-//ChamberMaster//Event Calendar 2.0//EN
METHOD:PUBLISH
X-PUBLISHED-TTL:P3D
REFRESH-INTERVAL:P3D
CALSCALE:GREGORIAN
BEGIN:VEVENT
DTSTART:20210704T150000Z
DTEND:20210704T180000Z
X-MICROSOFT-CDO-ALLDAYEVENT:FALSE
SUMMARY:Pottery Wheel Demonstrations at Deep Creek Pottery
DESCRIPTION:Join us at Deep Creek Pottery on July 2nd\,3rd & 4th for FREE pottery wheel demonstrations.  11:00AM - 4:00 PM Friday and Saturday. Sunday 11-2  Displays of art/pottery and craft kits will be offered in this outdoor event!  A perfect stop while enjoying your Deep Creek Lake vacation! See you soon!
X-ALT-DESC;FMTTYPE=text/html:Join us at Deep Creek Pottery on July 2nd\,3rd &amp\; 4th for FREE pottery wheel demonstrations.&nbsp\; 11:00AM - 4:00 PM Friday and Saturday. Sunday 11-2&nbsp\; Displays of art/pottery and craft kits will be offered in this outdoor event!&nbsp\; A perfect stop while enjoying your Deep Creek Lake vacation! See you soon!
LOCATION:Deep Creek Pottery 662 Laurel Ridge Road McHenry\, MD 21541 301-501-1619
UID:e.847.36576
SEQUENCE:3
DTSTAMP:20260421T064429Z
URL:https://members.visitdeepcreek.com/events/details/pottery-wheel-demonstrations-at-deep-creek-pottery-36576
END:VEVENT

END:VCALENDAR
