BEGIN:VCALENDAR
VERSION:2.0
PRODID:-//ChamberMaster//Event Calendar 2.0//EN
METHOD:PUBLISH
X-PUBLISHED-TTL:P3D
REFRESH-INTERVAL:P3D
CALSCALE:GREGORIAN
BEGIN:VEVENT
DTSTART:20220219T140000Z
DTEND:20220219T170000Z
X-MICROSOFT-CDO-ALLDAYEVENT:FALSE
SUMMARY:Pillar Innovations One Day Hiring Event - Interviews Guaranteed!
DESCRIPTION:FULL-TIME WORK\, COMPETITIVE PAY\, COMPREHENSIVE BENEFITS\, 401K\, PTO\n\n\n\nNow Training Cable Installers!\n\n	Guaranteed interviews\n	Saturday Feb. 19 / 9 AM - Noon\n	Southern Garrett Rescue Squad\n	200 Baltimore Ave\, Oakland\, MD 21550\n\n\n\nEmail resumes to careers@pillarinnovations.com\n\nApply online at pillarinnovations.com\n\nInquire at (301) 245-4107
X-ALT-DESC;FMTTYPE=text/html:<strong>FULL-TIME WORK\, COMPETITIVE PAY\, COMPREHENSIVE BENEFITS\, 401K\, PTO</strong><br />\n<br />\nNow Training Cable Installers!\n<ul>\n	<li>Guaranteed interviews</li>\n	<li>Saturday Feb. 19 / 9 AM - Noon</li>\n	<li>Southern Garrett Rescue Squad</li>\n	<li>200 Baltimore Ave\, Oakland\, MD 21550</li>\n</ul>\n<br />\nEmail resumes to careers@pillarinnovations.com<br />\nApply online at pillarinnovations.com<br />\nInquire at (301) 245-4107
LOCATION:Southern Garrett Rescue Squad 200 Baltimore Ave Oakland\, MD 21550
UID:e.847.36764
SEQUENCE:3
DTSTAMP:20260420T184430Z
URL:https://members.visitdeepcreek.com/events/details/pillar-innovations-one-day-hiring-event-interviews-guaranteed-36764
END:VEVENT

END:VCALENDAR
