BEGIN:VCALENDAR
VERSION:2.0
PRODID:-//ChamberMaster//Event Calendar 2.0//EN
METHOD:PUBLISH
X-PUBLISHED-TTL:P3D
REFRESH-INTERVAL:P3D
CALSCALE:GREGORIAN
BEGIN:VEVENT
DTSTART:20220913T160000Z
DTEND:20220913T160000Z
X-MICROSOFT-CDO-ALLDAYEVENT:FALSE
SUMMARY:Piano "Fireworks" in the Barn featuring Thomas Pandolfi
DESCRIPTION:Deep Creek Watershed Foundation Fundraising event at the Red Barn Inn and Events\, North Glade Road featuring Thomas Pandolfi\, pianist. Event will start with cocktails and appetizers\, followed by a dinner and then Mr. Pandolfi's performance.
X-ALT-DESC;FMTTYPE=text/html:Deep Creek Watershed Foundation Fundraising event at the Red Barn Inn and Events\, North Glade Road featuring Thomas Pandolfi\, pianist. Event will start with cocktails and appetizers\, followed by a dinner and then Mr. Pandolfi&#39\;s performance.
LOCATION:Deep Creek Watershed Foundation Event at the Red Barn Inn\, North Glade Road featuring Thomas Pandolfi\, pianist. Tuesday\, September 13\, 2022\, 5:30-9:00 PM.
UID:e.847.37714
SEQUENCE:3
DTSTAMP:20260420T093132Z
URL:https://members.visitdeepcreek.com/events/details/piano-fireworks-in-the-barn-featuring-thomas-pandolfi-37714
END:VEVENT

END:VCALENDAR
