BEGIN:VCALENDAR
VERSION:2.0
PRODID:-//ChamberMaster//Event Calendar 2.0//EN
METHOD:PUBLISH
X-PUBLISHED-TTL:P3D
REFRESH-INTERVAL:P3D
CALSCALE:GREGORIAN
BEGIN:VEVENT
DTSTART:20220710T170000Z
DTEND:20220710T180000Z
X-MICROSOFT-CDO-ALLDAYEVENT:FALSE
SUMMARY:Pantry Wine Tasting with Emily
DESCRIPTION:Fronterra Resources beverage director Emily Edwards will explore a trio of uncommon European varietals at this seated tasting conversation. We'll taste Nortico Alvarinho (Portugal)\, Michele Chiarlo Roero (Italy)\, and Bouvet Ladoubay Brut Cabernet Franc Ros  (France). Guests must be 21 years old to participate\, $25 plus tax\, advance tickets required.
X-ALT-DESC;FMTTYPE=text/html:Fronterra Resources beverage director Emily Edwards will explore a trio of uncommon European varietals at this seated tasting conversation.&nbsp\;We&rsquo\;ll taste Nortico Alvarinho (Portugal)\, Michele Chiarlo Roero (Italy)\, and Bouvet Ladoubay Brut Cabernet Franc Ros&eacute\; (France). <em>Guests must be 21 years old to participate\, $25 plus tax\, advance tickets required.</em>
LOCATION:Little Crossings Pantry 146 Casselman Rd. Grantsville\, MD 21536
UID:e.847.37835
SEQUENCE:3
DTSTAMP:20260420T111020Z
URL:https://members.visitdeepcreek.com/events/details/pantry-wine-tasting-with-emily-37835
END:VEVENT

END:VCALENDAR
