BEGIN:VCALENDAR
VERSION:2.0
PRODID:-//ChamberMaster//Event Calendar 2.0//EN
METHOD:PUBLISH
X-PUBLISHED-TTL:P3D
REFRESH-INTERVAL:P3D
CALSCALE:GREGORIAN
BEGIN:VEVENT
DTSTART:20210504T163000Z
DTEND:20210504T163000Z
X-MICROSOFT-CDO-ALLDAYEVENT:FALSE
SUMMARY:OUTDOOR CONDITIONING class
DESCRIPTION:Classes are at the beautiful Deep Creek State Park. Perfect for ALL levels. Walk\, Jog\, or run in between a variety of strength\, agility\, and balance drills using body weight & nature. ***State Parks do have an entrance fee if you do not have an annual MD state park pass
X-ALT-DESC;FMTTYPE=text/html:Classes are at the beautiful Deep Creek State Park. Perfect for ALL levels. Walk\, Jog\, or run in between a variety of strength\, agility\, and balance drills using body weight &amp\; nature. ***State Parks do have an entrance fee if you do not have an annual MD state park pass
LOCATION:Deep Creek State Park
UID:e.847.34449
SEQUENCE:3
DTSTAMP:20260421T093719Z
URL:https://members.visitdeepcreek.com/events/details/outdoor-conditioning-class-34449
END:VEVENT

END:VCALENDAR
