BEGIN:VCALENDAR
VERSION:2.0
PRODID:-//ChamberMaster//Event Calendar 2.0//EN
METHOD:PUBLISH
X-PUBLISHED-TTL:P3D
REFRESH-INTERVAL:P3D
CALSCALE:GREGORIAN
BEGIN:VEVENT
DTSTART:20211009T140000Z
DTEND:20211010T200000Z
X-MICROSOFT-CDO-ALLDAYEVENT:FALSE
SUMMARY:Outdoor Art Market at Deep Creek Pottery
DESCRIPTION:Join us on Saturday and Sunday for an outdoor art market!  We will have new pottery for sale as well as our take and make mosaic tile kits and paint your own pottery kits!  Halloween kits! Also a sample of our new kits we will be offering for Christmas!  We will have pottery wheel demonstrations and door prizes! A great stop while enjoying your Garrett County visit!\n\nGet your Christmas shopping done early!  See you soon!
X-ALT-DESC;FMTTYPE=text/html:Join us on Saturday and Sunday for an outdoor art market!&nbsp\; We will have new pottery for sale as well as our take and make mosaic tile kits and paint your own pottery kits!&nbsp\; Halloween kits! Also a sample of our new kits we will be offering for Christmas!&nbsp\; We will have pottery&nbsp\;wheel demonstrations and door prizes! A great stop while enjoying your Garrett County visit!<br />\nGet your Christmas shopping done early!&nbsp\; See you soon!
LOCATION:Deep Creek Pottery 662 Laurel Ridge Road McHenry\, MD 21541
UID:e.847.36659
SEQUENCE:3
DTSTAMP:20260421T031000Z
URL:https://members.visitdeepcreek.com/events/details/outdoor-art-market-at-deep-creek-pottery-36659
END:VEVENT

END:VCALENDAR
