BEGIN:VCALENDAR
VERSION:2.0
PRODID:-//ChamberMaster//Event Calendar 2.0//EN
METHOD:PUBLISH
X-PUBLISHED-TTL:P3D
REFRESH-INTERVAL:P3D
CALSCALE:GREGORIAN
BEGIN:VEVENT
DTSTART:20221029T140000Z
DTEND:20221029T180000Z
X-MICROSOFT-CDO-ALLDAYEVENT:FALSE
SUMMARY:Open Studio - Paint a Pumpkin with Local Artist Jessica McClurg!
DESCRIPTION:Join one of our Gallery artists\, Jess McClurg to paint mini pumpkins or a seasonal wall hanging\n\nStart your masterpiece anytime between 10AM and 2PM!\n\n \n\nRecommended for ages 8 to adult.\n\nPaint mini pumpkins - $25.00\n\nSeasonal wall hanging - $28.00\n\n \n\nAbout The Studio: Guests are welcome to bring snacks and drinks. Bottled water\, Western Maryland Lemonade and some snacks will be available for purchase. Guests are permitted to bring their own adult beverages. We encourage you to visit our neighbors for snacks and beverages. (Our sister store - A Mountain FIx\, Short Story Brewing Company\, Pine Lodge Steakhouse\, Black Bear Tavern and Deep Creek Funzone).\n\n \n\nThe Gallery at Marsh Hill Mercantile will be open during breaks for browsing and shopping our local artists!
X-ALT-DESC;FMTTYPE=text/html:<div>\n<div>\n<div>Join one of our Gallery artists\, Jess McClurg to paint mini pumpkins or a seasonal wall hanging</div>\n\n<div>Start your masterpiece anytime between 10AM and 2PM!<br />\n&nbsp\;</div>\n\n<div>Recommended for ages 8 to adult.</div>\n\n<div>Paint mini pumpkins - $25.00<br />\nSeasonal wall hanging - $28.00<br />\n&nbsp\;</div>\n\n<div>About The Studio: Guests are welcome to bring snacks and drinks. Bottled water\, Western Maryland Lemonade and some snacks will be available for purchase. Guests are permitted to bring their own adult beverages. We encourage you to visit our neighbors for snacks and beverages. (Our sister store - A Mountain FIx\, Short Story Brewing Company\, Pine Lodge Steakhouse\, Black Bear Tavern and Deep Creek Funzone).<br />\n&nbsp\;</div>\n\n<div>The Gallery at Marsh Hill Mercantile will be open during breaks for browsing and shopping our local artists!</div>\n</div>\n</div>\n
LOCATION:1550-D Deep Creek Drive\, McHenry\, MD 21541
UID:e.847.38407
SEQUENCE:3
DTSTAMP:20260420T061426Z
URL:https://members.visitdeepcreek.com/events/details/open-studio-paint-a-pumpkin-with-local-artist-jessica-mcclurg-38407
END:VEVENT

END:VCALENDAR
