BEGIN:VCALENDAR
VERSION:2.0
PRODID:-//ChamberMaster//Event Calendar 2.0//EN
METHOD:PUBLISH
X-PUBLISHED-TTL:P3D
REFRESH-INTERVAL:P3D
CALSCALE:GREGORIAN
BEGIN:VEVENT
DTSTART:20220304T210000Z
DTEND:20220305T210000Z
X-MICROSOFT-CDO-ALLDAYEVENT:FALSE
SUMMARY:On-Site Job Fair
DESCRIPTION:We're seeking hard-working individuals\, dedicated to one of the fastest-growing organizations in the area! Representatives will be on-site from Deep Creek Marina\, Lake Life Boat Rentals\, Monkey Business\, Deep Creek Axe Throwing\, Deep Creek Fun Zone\, and more.  Open interviews will be conducted. Bring a resume\, references\, and dress accordingly. For more info\, please visit one of our websites\, any of the Facebook pages of the businesses listed\n\nabove\, or call for additional information.
X-ALT-DESC;FMTTYPE=text/html:We&#39\;re seeking hard-working individuals\, dedicated to one of the&nbsp\;fastest-growing organizations in the area! Representatives will be&nbsp\;on-site from Deep Creek Marina\, Lake Life Boat Rentals\, Monkey&nbsp\;Business\, Deep Creek Axe Throwing\, Deep Creek Fun Zone\, and more.&nbsp\;&nbsp\;Open interviews will be conducted. Bring a resume\, references\,&nbsp\;and dress accordingly. For more info\, please visit one of our&nbsp\;websites\, any of the Facebook pages of the businesses listed<br />\nabove\, or call for additional information.
LOCATION:Deep Creek Marina showroom\, 2010 Deep Creek Drive\, McHenry\, MD 21541
UID:e.847.36773
SEQUENCE:3
DTSTAMP:20260420T171239Z
URL:https://members.visitdeepcreek.com/events/details/on-site-job-fair-36773
END:VEVENT

END:VCALENDAR
