BEGIN:VCALENDAR
VERSION:2.0
PRODID:-//ChamberMaster//Event Calendar 2.0//EN
METHOD:PUBLISH
X-PUBLISHED-TTL:P3D
REFRESH-INTERVAL:P3D
CALSCALE:GREGORIAN
BEGIN:VEVENT
DTSTART:20210820T003000Z
DTEND:20210820T023000Z
X-MICROSOFT-CDO-ALLDAYEVENT:FALSE
SUMMARY:Oakland's Little Yough Family Flicks
DESCRIPTION:Bring your chair and/or blanket\, your favorite movie snack\, and your entire family for an outdoor movie! Movies begin at dusk (around 8:30-9:00pm) and are free to the public. The movies are shown at the Mountain Fresh Pavilion at the Town Parking Lot. \nThe series will run from every Thursday\, from June 10\, 2021 to August 19\, 2021. The sponsors for the 2021 Little Yough Family Flicks are Clear Mountain Bank\, Taylor-Made Deep Creek Vacations and Sales\, Patriot Automotive Groups\, Sound Fusion Entertainment and NatOx Nuptials\, Inc\, Glamour Ray Salon and Apparel\, Dairy Queen Chill and Grill\, Club 21550\, and Mountain Laurel Medical Center.\n\n\n\nA complete movie listing can be found at https://oaklandmd.com/little-yough-family-flicks-schedule.html.
X-ALT-DESC;FMTTYPE=text/html:<span style="font-size:14px">Bring your chair and/or blanket\, your favorite movie snack\, and your entire family for an outdoor movie! Movies begin at dusk (around 8:30-9:00pm) and are free to the public. The movies are shown at the Mountain Fresh Pavilion at the Town Parking Lot.&nbsp\;</span>\n<p><span style="font-size:14px"><span style="color:rgb(48\, 48\, 48)\; font-family:arial\,sans-serif">The series will run from every Thursday\, from June 10\, 2021 to August 19\, 2021. The sponsors for the 2021 Little Yough Family Flicks are Clear Mountain Bank\, Taylor-Made Deep Creek Vacations and Sales\, Patriot Automotive Groups\, Sound Fusion Entertainment and NatOx Nuptials\, Inc\, Glamour Ray Salon and Apparel\, Dairy Queen Chill and Grill\, Club 21550\, and Mountain Laurel Medical Center.<br />\n<br />\nA complete movie listing can be found at&nbsp\;</span></span>https://oaklandmd.com/little-yough-family-flicks-schedule.html.<br />\n<br />\n&nbsp\;</p>\n
LOCATION:Mountain Fresh Pavilion at the Oakland Town Parking Lot.
UID:e.847.36600
SEQUENCE:3
DTSTAMP:20260421T045801Z
URL:https://members.visitdeepcreek.com/events/details/oakland-s-little-yough-family-flicks-08-19-2021-36600
END:VEVENT

END:VCALENDAR
