BEGIN:VCALENDAR
VERSION:2.0
PRODID:-//ChamberMaster//Event Calendar 2.0//EN
METHOD:PUBLISH
X-PUBLISHED-TTL:P3D
REFRESH-INTERVAL:P3D
CALSCALE:GREGORIAN
BEGIN:VEVENT
DTSTART:20220722T003000Z
DTEND:20220722T023000Z
X-MICROSOFT-CDO-ALLDAYEVENT:FALSE
SUMMARY:Oakland's Little Yough Family Flicks
DESCRIPTION:The Mayor and Town Council of Oakland\, MD and The Oakland Heritage Community Foundation\, Inc. are gearing up to host 'Little Yough Family Flicks' a series of outdoor movies. \n\n\n\nThe Little Yough Family Flicks is a rebranding of the formerly known Oakland Pocket Park Movies. The name has changed but the fun\, family evenings will remain the same. Guests are welcome to bring chairs\, blankets\, food\, and non-alcoholic beverages and enjoy the flicks on the big 24' screen. \n\n\n\nThe family-friendly\, free movies are held at the Mountain Fresh Pavilion in the Oakland Town Parking Lot every Thursday evening until August 18th\, except for Thursday\, August 4th\, 2022. The movies start at 8:30pm and are shown rain or shine.\n\n\n\nThis year's movie schedule is packed with blockbuster hits including the following:  \n\n\n\nJune 30 Jungle Cruise sponsored by Taylor Made Deep Creek Vacations & Sales\n\nJuly 7 Encanto sponsored by Glamour Ray Salon and Apparel and Oakland Order of the Eastern Star #67\n\nJuly 14 Sing 2 sponsored by First Peoples Community Federal Credit Union\n\nJuly 21 Luca sponsored by The Garrett County Judy Center\n\nJuly 28 Shang-Chi and the Legend of the Ten Rings sponsored by Dairy Queen Chill and Grill\n\nAugust 11 Space Jam: A New Legacy sponsored by the Patriot Automotive Group  \n\nAugust 18 Clifford the Big Red Dog sponsored by Mountain Laurel Medical Center\n\n\n\nFor additional information\, upcoming scheduled movies\, or questions\, Like and Follow Oakland Little Yough Family Flicks on Facebook or contact Nicole McCullough at Oakland City Hall\, 301-334-2691
X-ALT-DESC;FMTTYPE=text/html:<p><span style="color:#303030"><span style="font-family:arial\,sans-serif"><span style="font-size:13.5pt">The Mayor and Town Council of Oakland\, MD and The Oakland Heritage Community Foundation\, Inc. are gearing up to host &lsquo\;Little Yough Family Flicks&#39\; a series of outdoor movies.&nbsp\;</span></span></span><br />\n<br />\n<span style="color:#303030"><span style="font-family:arial\,sans-serif"><span style="font-size:13.5pt">The Little Yough Family Flicks is a rebranding of the formerly known Oakland Pocket Park Movies. The name has changed but the fun\, family evenings will remain the same. Guests are welcome to bring chairs\, blankets\, food\, and non-alcoholic beverages and enjoy the flicks on the big 24&rsquo\; screen.&nbsp\;</span></span></span><br />\n<br />\n<span style="color:#303030"><span style="font-family:arial\,sans-serif"><span style="font-size:13.5pt">The family-friendly\, free movies are held at the Mountain Fresh Pavilion in the Oakland Town Parking Lot every Thursday evening until August 18th\, except for Thursday\, August 4th\, 2022. The movies start at 8:30pm and are shown rain or shine.<br />\n<br />\nThis year&rsquo\;s movie schedule is packed with blockbuster hits including the following: &nbsp\;</span></span></span><br />\n<br />\n<span style="color:#303030"><span style="font-family:arial\,sans-serif"><span style="font-size:13.5pt">June 30 Jungle Cruise sponsored by Taylor Made Deep Creek Vacations &amp\; Sales</span></span></span><br />\n<span style="color:#303030"><span style="font-family:arial\,sans-serif"><span style="font-size:13.5pt">July 7 Encanto sponsored by Glamour Ray Salon and Apparel and Oakland Order of the Eastern Star #67</span></span></span><br />\n<span style="color:#303030"><span style="font-family:arial\,sans-serif"><span style="font-size:13.5pt">July 14 Sing 2 sponsored by First Peoples Community Federal Credit Union</span></span></span><br />\n<span style="color:#303030"><span style="font-family:arial\,sans-serif"><span style="font-size:13.5pt">July 21 Luca sponsored by The Garrett County Judy Center</span></span></span><br />\n<span style="color:#303030"><span style="font-family:arial\,sans-serif"><span style="font-size:13.5pt">July 28 Shang-Chi and the Legend of the Ten Rings sponsored by Dairy Queen Chill and Grill</span></span></span><br />\n<span style="color:#303030"><span style="font-family:arial\,sans-serif"><span style="font-size:13.5pt">August 11 Space Jam: A New Legacy sponsored by the Patriot Automotive Group&nbsp\; </span></span></span><br />\n<span style="color:#303030"><span style="font-family:arial\,sans-serif"><span style="font-size:13.5pt">August 18 Clifford the Big Red Dog sponsored by Mountain Laurel Medical Center</span></span></span><br />\n<br />\n<span style="color:#303030"><span style="font-family:arial\,sans-serif"><span style="font-size:13.5pt">For additional information\, upcoming scheduled movies\, or questions\, Like and Follow Oakland Little Yough Family Flicks on Facebook or contact Nicole McCullough at Oakland City Hall\, 301-334-2691</span></span></span><br />\n&nbsp\;</p>\n
LOCATION:Mountain Fresh Pavilion at the Oakland Town Parking Lot.
UID:e.847.37779
SEQUENCE:3
DTSTAMP:20260420T112645Z
URL:https://members.visitdeepcreek.com/events/details/oakland-s-little-yough-family-flicks-07-21-2022-37779
END:VEVENT

END:VCALENDAR
