BEGIN:VCALENDAR
VERSION:2.0
PRODID:-//ChamberMaster//Event Calendar 2.0//EN
METHOD:PUBLISH
X-PUBLISHED-TTL:P3D
REFRESH-INTERVAL:P3D
CALSCALE:GREGORIAN
BEGIN:VEVENT
DTSTART:20220618T160000Z
DTEND:20220618T200000Z
X-MICROSOFT-CDO-ALLDAYEVENT:FALSE
SUMMARY:Oakland's Kick Off To Summer
DESCRIPTION:The Town of Oakland and GOBA's events team is celebrating the beginning of summer on Saturday\, June 18th with its "Kick Off to Summer" event in the Arts & Entertainment District in downtown Oakland! Activities include a cornhole tournament\, a Beer Walk\, food vendors\, live music\, sidewalk sales\, artist exhibits\, kid's activities\, a car show\, and much more.  \n\n\n\nKicking off the start of summer in full swing\, GOBA's Events Team is celebrating on Saturday\, June 18th with its "Kick Off to Summer" event in the Arts & Entertainment District in downtown Oakland!  This event will run from 12noon to 4pm.  Activities include a cornhole tournament\, a Beer Walk\, food vendors\, live music\, sidewalk sales\, artist exhibits\, kid's activities\, a car show\, and much more. \n\n\n\nThe Farmer's Market will be at the Mountain Fresh Pavilion until 1pm that day and local businesses will be having in store specials all day.? This is a rain or shine event.
X-ALT-DESC;FMTTYPE=text/html:<h2 style="text-align:center">The Town of Oakland and GOBA&#39\;s events team is celebrating the beginning of summer on Saturday\, June 18th with its &ldquo\;Kick Off to Summer&rdquo\; event in the Arts &amp\; Entertainment District in downtown Oakland! Activities include a cornhole tournament\, a Beer Walk\, food vendors\, live music\, sidewalk sales\, artist exhibits\, kid&rsquo\;s activities\, a car show\, and much more.&nbsp\;&nbsp\;<br />\n<br />\n<span style="color:rgb(98\, 98\, 98)">Kicking off the start of summer in full swing\, GOBA&rsquo\;s Events Team is celebrating on Saturday\, June 18th with its &ldquo\;Kick Off to Summer&rdquo\; event in the Arts &amp\; Entertainment District in downtown Oakland!&nbsp\; This event will run from 12noon to 4pm.&nbsp\;&nbsp\;</span>Activities include a cornhole tournament\, a Beer Walk\, food vendors\, live music\, sidewalk sales\, artist exhibits\, kid&rsquo\;s activities\, a car show\, and much more.&nbsp\;<br />\n<br />\n<span style="color:rgb(98\, 98\, 98)">The Farmer&rsquo\;s Market will be at the Mountain Fresh Pavilion until 1pm that day and local businesses will be having in store specials all day.</span><span style="color:rgb(98\, 98\, 98)">?</span>&nbsp\;<span style="color:rgb(98\, 98\, 98)">This is a rain or shine event.&nbsp\;</span></h2>\n
LOCATION:Downtown Oakland\, MD.
UID:e.847.37638
SEQUENCE:3
DTSTAMP:20260420T141624Z
URL:https://members.visitdeepcreek.com/events/details/oakland-s-kick-off-to-summer-06-18-2022-37638
END:VEVENT

END:VCALENDAR
